BEGIN:VCALENDAR
VERSION:2.0
PRODID:-//Ayuntamiento de Arévalo - ECPv6.15.18//NONSGML v1.0//EN
CALSCALE:GREGORIAN
METHOD:PUBLISH
X-WR-CALNAME:Ayuntamiento de Arévalo
X-ORIGINAL-URL:https://desarrolloarevalo.pixelinnova.com
X-WR-CALDESC:Eventos para Ayuntamiento de Arévalo
REFRESH-INTERVAL;VALUE=DURATION:PT1H
X-Robots-Tag:noindex
X-PUBLISHED-TTL:PT1H
BEGIN:VTIMEZONE
TZID:Europe/Madrid
BEGIN:DAYLIGHT
TZOFFSETFROM:+0100
TZOFFSETTO:+0200
TZNAME:CEST
DTSTART:20230326T010000
END:DAYLIGHT
BEGIN:STANDARD
TZOFFSETFROM:+0200
TZOFFSETTO:+0100
TZNAME:CET
DTSTART:20231029T010000
END:STANDARD
BEGIN:DAYLIGHT
TZOFFSETFROM:+0100
TZOFFSETTO:+0200
TZNAME:CEST
DTSTART:20240331T010000
END:DAYLIGHT
BEGIN:STANDARD
TZOFFSETFROM:+0200
TZOFFSETTO:+0100
TZNAME:CET
DTSTART:20241027T010000
END:STANDARD
BEGIN:DAYLIGHT
TZOFFSETFROM:+0100
TZOFFSETTO:+0200
TZNAME:CEST
DTSTART:20250330T010000
END:DAYLIGHT
BEGIN:STANDARD
TZOFFSETFROM:+0200
TZOFFSETTO:+0100
TZNAME:CET
DTSTART:20251026T010000
END:STANDARD
BEGIN:DAYLIGHT
TZOFFSETFROM:+0100
TZOFFSETTO:+0200
TZNAME:CEST
DTSTART:20260329T010000
END:DAYLIGHT
BEGIN:STANDARD
TZOFFSETFROM:+0200
TZOFFSETTO:+0100
TZNAME:CET
DTSTART:20261025T010000
END:STANDARD
END:VTIMEZONE
BEGIN:VEVENT
DTSTART;TZID=Europe/Madrid:20240919T170000
DTEND;TZID=Europe/Madrid:20250126T194500
DTSTAMP:20260424T221706
CREATED:20240924T080423Z
LAST-MODIFIED:20240924T080423Z
UID:27535-1726765200-1737920700@desarrolloarevalo.pixelinnova.com
SUMMARY:Exposición Collegium
DESCRIPTION:
URL:https://desarrolloarevalo.pixelinnova.com/evento/exposicion-collegium-2-2/
CATEGORIES:Exposición
ATTACH;FMTTYPE=image/png:https://desarrolloarevalo.pixelinnova.com/wp-content/uploads/2026/03/240808_Collegium_Lalluvianovienedelcielo_IGstory.png
END:VEVENT
BEGIN:VEVENT
DTSTART;VALUE=DATE:20241201
DTEND;VALUE=DATE:20241216
DTSTAMP:20260424T221706
CREATED:20241129T151722Z
LAST-MODIFIED:20260324T152848Z
UID:27616-1733011200-1734307199@desarrolloarevalo.pixelinnova.com
SUMMARY:I Ruta de las tapas
DESCRIPTION:I Ruta de las tapas «La Mi Villa»
URL:https://desarrolloarevalo.pixelinnova.com/evento/i-ruta-de-las-tapas-2/
CATEGORIES:Actividades
ATTACH;FMTTYPE=image/png:https://desarrolloarevalo.pixelinnova.com/wp-content/uploads/2026/03/Tapas-1.png
END:VEVENT
BEGIN:VEVENT
DTSTART;TZID=Europe/Madrid:20241207T103000
DTEND;TZID=Europe/Madrid:20241207T123000
DTSTAMP:20260424T221706
CREATED:20241203T125233Z
LAST-MODIFIED:20241203T125233Z
UID:27626-1733567400-1733574600@desarrolloarevalo.pixelinnova.com
SUMMARY:Salida guiada de micología
DESCRIPTION:«Salida guiada al campo»\, dirigida por Ricardo Ungría \n 
URL:https://desarrolloarevalo.pixelinnova.com/evento/salida-guiada-de-micologia-2/
CATEGORIES:Actividades
ATTACH;FMTTYPE=image/png:https://desarrolloarevalo.pixelinnova.com/wp-content/uploads/2026/03/Jornadas-Micologicas1.png
END:VEVENT
BEGIN:VEVENT
DTSTART;TZID=Europe/Madrid:20241207T120000
DTEND;TZID=Europe/Madrid:20241207T140000
DTSTAMP:20260424T221706
CREATED:20241202T085325Z
LAST-MODIFIED:20241202T085325Z
UID:27621-1733572800-1733580000@desarrolloarevalo.pixelinnova.com
SUMMARY:Talleres Navideños 2024
DESCRIPTION:Taller Familiar \nInscripciones: Días 2\, 3 y 4 de diciembre de 17:00h a 18:00h en el local de la asociación\n(En las galerías debajo del INEM)\n¡Plazas Limitadas! \nPrecio por taller\nInfantil: 4€\nFamiliar: 7€
URL:https://desarrolloarevalo.pixelinnova.com/evento/talleres-navidenos-2024-3-2/
CATEGORIES:Actividades
ATTACH;FMTTYPE=image/jpeg:https://desarrolloarevalo.pixelinnova.com/wp-content/uploads/2026/03/Talleres.jpg
END:VEVENT
BEGIN:VEVENT
DTSTART;TZID=Europe/Madrid:20241207T120000
DTEND;TZID=Europe/Madrid:20241207T140000
DTSTAMP:20260424T221706
CREATED:20241205T152640Z
LAST-MODIFIED:20241205T152640Z
UID:27637-1733572800-1733580000@desarrolloarevalo.pixelinnova.com
SUMMARY:Fiesta de la Matanza
DESCRIPTION:
URL:https://desarrolloarevalo.pixelinnova.com/evento/fiesta-de-la-matanza-2/
CATEGORIES:Actividades
ATTACH;FMTTYPE=image/png:https://desarrolloarevalo.pixelinnova.com/wp-content/uploads/2026/03/Programacion-navidena_20241205_171445_0000-002.png
END:VEVENT
BEGIN:VEVENT
DTSTART;TZID=Europe/Madrid:20241207T170000
DTEND;TZID=Europe/Madrid:20241207T190000
DTSTAMP:20260424T221706
CREATED:20241205T153149Z
LAST-MODIFIED:20241205T153149Z
UID:27638-1733590800-1733598000@desarrolloarevalo.pixelinnova.com
SUMMARY:Talleres Familiares
DESCRIPTION:Inscripción 7€ (1 menor + 1 adulto)
URL:https://desarrolloarevalo.pixelinnova.com/evento/talleres-familiares-2/
CATEGORIES:Actividades
ATTACH;FMTTYPE=image/png:https://desarrolloarevalo.pixelinnova.com/wp-content/uploads/2026/03/Programacion-navidena_20241205_171445_0000-002.png
END:VEVENT
END:VCALENDAR