BEGIN:VCALENDAR
VERSION:2.0
PRODID:-//Ayuntamiento de Arévalo - ECPv6.15.18//NONSGML v1.0//EN
CALSCALE:GREGORIAN
METHOD:PUBLISH
X-ORIGINAL-URL:https://desarrolloarevalo.pixelinnova.com
X-WR-CALDESC:Eventos para Ayuntamiento de Arévalo
REFRESH-INTERVAL;VALUE=DURATION:PT1H
X-Robots-Tag:noindex
X-PUBLISHED-TTL:PT1H
BEGIN:VTIMEZONE
TZID:Europe/Madrid
BEGIN:DAYLIGHT
TZOFFSETFROM:+0100
TZOFFSETTO:+0200
TZNAME:CEST
DTSTART:20230326T010000
END:DAYLIGHT
BEGIN:STANDARD
TZOFFSETFROM:+0200
TZOFFSETTO:+0100
TZNAME:CET
DTSTART:20231029T010000
END:STANDARD
BEGIN:DAYLIGHT
TZOFFSETFROM:+0100
TZOFFSETTO:+0200
TZNAME:CEST
DTSTART:20240331T010000
END:DAYLIGHT
BEGIN:STANDARD
TZOFFSETFROM:+0200
TZOFFSETTO:+0100
TZNAME:CET
DTSTART:20241027T010000
END:STANDARD
BEGIN:DAYLIGHT
TZOFFSETFROM:+0100
TZOFFSETTO:+0200
TZNAME:CEST
DTSTART:20250330T010000
END:DAYLIGHT
BEGIN:STANDARD
TZOFFSETFROM:+0200
TZOFFSETTO:+0100
TZNAME:CET
DTSTART:20251026T010000
END:STANDARD
BEGIN:DAYLIGHT
TZOFFSETFROM:+0100
TZOFFSETTO:+0200
TZNAME:CEST
DTSTART:20260329T010000
END:DAYLIGHT
BEGIN:STANDARD
TZOFFSETFROM:+0200
TZOFFSETTO:+0100
TZNAME:CET
DTSTART:20261025T010000
END:STANDARD
END:VTIMEZONE
BEGIN:VEVENT
DTSTART;TZID=Europe/Madrid:20240919T170000
DTEND;TZID=Europe/Madrid:20250126T194500
DTSTAMP:20260426T003241
CREATED:20240924T080423Z
LAST-MODIFIED:20240924T080423Z
UID:27535-1726765200-1737920700@desarrolloarevalo.pixelinnova.com
SUMMARY:Exposición Collegium
DESCRIPTION:
URL:https://desarrolloarevalo.pixelinnova.com/evento/exposicion-collegium-2-2/
CATEGORIES:Exposición
ATTACH;FMTTYPE=image/png:https://desarrolloarevalo.pixelinnova.com/wp-content/uploads/2026/03/240808_Collegium_Lalluvianovienedelcielo_IGstory.png
END:VEVENT
BEGIN:VEVENT
DTSTART;VALUE=DATE:20241220
DTEND;VALUE=DATE:20241221
DTSTAMP:20260426T003241
CREATED:20241111T111540Z
LAST-MODIFIED:20241111T111540Z
UID:27589-1734652800-1734739199@desarrolloarevalo.pixelinnova.com
SUMMARY:Último día presentación de Murales al aire libre contra la violencia de genero
DESCRIPTION:I Concurso de murales al aire libre contra la violencia de género y por la igualdad.\n\nDirigido a centros educativos de la ciudad desde 5º de primaria a 4º de la ESO (Más información en los propios centros educativos o en www.arevalo.es).
URL:https://desarrolloarevalo.pixelinnova.com/evento/dia-internacional-contra-la-violencia-de-genero-2024-3/
CATEGORIES:Cultura
ATTACH;FMTTYPE=image/jpeg:https://desarrolloarevalo.pixelinnova.com/wp-content/uploads/2026/03/Mural-contra-la-violencia-de-genero.jpg
END:VEVENT
BEGIN:VEVENT
DTSTART;TZID=Europe/Madrid:20241220T170000
DTEND;TZID=Europe/Madrid:20241220T200000
DTSTAMP:20260426T003241
CREATED:20241205T155156Z
LAST-MODIFIED:20241205T155156Z
UID:27644-1734714000-1734724800@desarrolloarevalo.pixelinnova.com
SUMMARY:Taller Navideño
DESCRIPTION:Plazas limitadas\, precio: 1€ \nInscríbete en Agencia de desarrollo local de 8h a 15h \n(Ayuntamiento\, segunda planta)
URL:https://desarrolloarevalo.pixelinnova.com/evento/taller-navideno-2/
CATEGORIES:Actividades
ATTACH;FMTTYPE=image/jpeg:https://desarrolloarevalo.pixelinnova.com/wp-content/uploads/2026/03/Imagen-de-WhatsApp-2024-12-11-a-las-10.49.47_c9be74a9.jpg
END:VEVENT
BEGIN:VEVENT
DTSTART;TZID=Europe/Madrid:20241220T200000
DTEND;TZID=Europe/Madrid:20241220T220000
DTSTAMP:20260426T003241
CREATED:20241205T155350Z
LAST-MODIFIED:20241205T155350Z
UID:27645-1734724800-1734732000@desarrolloarevalo.pixelinnova.com
SUMMARY:Espectáculo de magia "Íntimo"
DESCRIPTION:Con la actuación del mago Iñaki Zabaleta \nEntrada libre hasta completar el aforo
URL:https://desarrolloarevalo.pixelinnova.com/evento/espectaculo-de-magia-intimo-2/
CATEGORIES:Actividades
ATTACH;FMTTYPE=image/jpeg:https://desarrolloarevalo.pixelinnova.com/wp-content/uploads/2026/03/programacion-navidad-24-25-1.jpg
END:VEVENT
END:VCALENDAR