BEGIN:VCALENDAR
VERSION:2.0
PRODID:-//Ayuntamiento de Arévalo - ECPv6.15.18//NONSGML v1.0//EN
CALSCALE:GREGORIAN
METHOD:PUBLISH
X-ORIGINAL-URL:https://desarrolloarevalo.pixelinnova.com
X-WR-CALDESC:Eventos para Ayuntamiento de Arévalo
REFRESH-INTERVAL;VALUE=DURATION:PT1H
X-Robots-Tag:noindex
X-PUBLISHED-TTL:PT1H
BEGIN:VTIMEZONE
TZID:Europe/Madrid
BEGIN:DAYLIGHT
TZOFFSETFROM:+0100
TZOFFSETTO:+0200
TZNAME:CEST
DTSTART:20230326T010000
END:DAYLIGHT
BEGIN:STANDARD
TZOFFSETFROM:+0200
TZOFFSETTO:+0100
TZNAME:CET
DTSTART:20231029T010000
END:STANDARD
BEGIN:DAYLIGHT
TZOFFSETFROM:+0100
TZOFFSETTO:+0200
TZNAME:CEST
DTSTART:20240331T010000
END:DAYLIGHT
BEGIN:STANDARD
TZOFFSETFROM:+0200
TZOFFSETTO:+0100
TZNAME:CET
DTSTART:20241027T010000
END:STANDARD
BEGIN:DAYLIGHT
TZOFFSETFROM:+0100
TZOFFSETTO:+0200
TZNAME:CEST
DTSTART:20250330T010000
END:DAYLIGHT
BEGIN:STANDARD
TZOFFSETFROM:+0200
TZOFFSETTO:+0100
TZNAME:CET
DTSTART:20251026T010000
END:STANDARD
BEGIN:DAYLIGHT
TZOFFSETFROM:+0100
TZOFFSETTO:+0200
TZNAME:CEST
DTSTART:20260329T010000
END:DAYLIGHT
BEGIN:STANDARD
TZOFFSETFROM:+0200
TZOFFSETTO:+0100
TZNAME:CET
DTSTART:20261025T010000
END:STANDARD
END:VTIMEZONE
BEGIN:VEVENT
DTSTART;TZID=Europe/Madrid:20240919T170000
DTEND;TZID=Europe/Madrid:20250126T194500
DTSTAMP:20260426T043748
CREATED:20240924T080423Z
LAST-MODIFIED:20240924T080423Z
UID:27535-1726765200-1737920700@desarrolloarevalo.pixelinnova.com
SUMMARY:Exposición Collegium
DESCRIPTION:
URL:https://desarrolloarevalo.pixelinnova.com/evento/exposicion-collegium-2-2/
CATEGORIES:Exposición
ATTACH;FMTTYPE=image/png:https://desarrolloarevalo.pixelinnova.com/wp-content/uploads/2026/03/240808_Collegium_Lalluvianovienedelcielo_IGstory.png
END:VEVENT
BEGIN:VEVENT
DTSTART;TZID=Europe/Madrid:20241221T120000
DTEND;TZID=Europe/Madrid:20241221T140000
DTSTAMP:20260426T043748
CREATED:20241202T085733Z
LAST-MODIFIED:20241202T085733Z
UID:27622-1734782400-1734789600@desarrolloarevalo.pixelinnova.com
SUMMARY:Mercado Navideño
DESCRIPTION:
URL:https://desarrolloarevalo.pixelinnova.com/evento/mercado-navideno-4/
CATEGORIES:Actividades
ATTACH;FMTTYPE=image/png:https://desarrolloarevalo.pixelinnova.com/wp-content/uploads/2026/03/Mercado-Navideno.png
END:VEVENT
BEGIN:VEVENT
DTSTART;TZID=Europe/Madrid:20241221T120000
DTEND;TZID=Europe/Madrid:20241221T140000
DTSTAMP:20260426T043748
CREATED:20241205T155635Z
LAST-MODIFIED:20241205T155635Z
UID:27646-1734782400-1734789600@desarrolloarevalo.pixelinnova.com
SUMMARY:Villancicos en la Calle
DESCRIPTION:Personajes navideños \nCaldo navideño a favor de Autismo Ávila
URL:https://desarrolloarevalo.pixelinnova.com/evento/villancicos-en-la-calle-2-2/
CATEGORIES:Actividades
ATTACH;FMTTYPE=image/jpeg:https://desarrolloarevalo.pixelinnova.com/wp-content/uploads/2026/03/20241212_092911_g.jpg
END:VEVENT
BEGIN:VEVENT
DTSTART;TZID=Europe/Madrid:20241221T130000
DTEND;TZID=Europe/Madrid:20241221T133000
DTSTAMP:20260426T043748
CREATED:20241205T160412Z
LAST-MODIFIED:20241205T160412Z
UID:27647-1734786000-1734787800@desarrolloarevalo.pixelinnova.com
SUMMARY:Espectáculo de magia "Tú Tienes Magia"
DESCRIPTION:Actuación del mago Joaquín Matas \nEntrada libre hasta completar el aforo
URL:https://desarrolloarevalo.pixelinnova.com/evento/espectaculo-de-magia-tu-tienes-magia-4/
CATEGORIES:Actividades
ATTACH;FMTTYPE=image/jpeg:https://desarrolloarevalo.pixelinnova.com/wp-content/uploads/2026/03/programacion-navidad-24-25-2.jpg
END:VEVENT
BEGIN:VEVENT
DTSTART;TZID=Europe/Madrid:20241221T180000
DTEND;TZID=Europe/Madrid:20241221T183000
DTSTAMP:20260426T043748
CREATED:20241205T160529Z
LAST-MODIFIED:20241205T160529Z
UID:27648-1734804000-1734805800@desarrolloarevalo.pixelinnova.com
SUMMARY:Espectáculo de magia "Tú Tienes Magia"
DESCRIPTION:Actuación del mago Joaquín Matas \nEntrada libre hasta completar el aforo
URL:https://desarrolloarevalo.pixelinnova.com/evento/espectaculo-de-magia-tu-tienes-magia-2-2/
CATEGORIES:Actividades
ATTACH;FMTTYPE=image/jpeg:https://desarrolloarevalo.pixelinnova.com/wp-content/uploads/2026/03/programacion-navidad-24-25-2.jpg
END:VEVENT
BEGIN:VEVENT
DTSTART;TZID=Europe/Madrid:20241221T180000
DTEND;TZID=Europe/Madrid:20241221T200000
DTSTAMP:20260426T043748
CREATED:20241202T082555Z
LAST-MODIFIED:20241202T082555Z
UID:27618-1734804000-1734811200@desarrolloarevalo.pixelinnova.com
SUMMARY:Papanoelada motera
DESCRIPTION:Sábado\, 21 de diciembre de 2024 a las  18:00 h. en el Parque Vellando (Recinto ferial) \n\nRecorrido por las calles de Arévalo.\nFoto para inmortalizar el momento en el Castillo.\nPremio a la moto mejor ambientada (disfraz\, decoración\, iluminación…)\nFinalización en la Plaza del Arrabal.
URL:https://desarrolloarevalo.pixelinnova.com/evento/papanoelada-motera-2-2/
CATEGORIES:Actividades
ATTACH;FMTTYPE=image/png:https://desarrolloarevalo.pixelinnova.com/wp-content/uploads/2026/03/Papanoelada-Motera.png
END:VEVENT
BEGIN:VEVENT
DTSTART;TZID=Europe/Madrid:20241221T180000
DTEND;TZID=Europe/Madrid:20241221T200000
DTSTAMP:20260426T043748
CREATED:20241205T160930Z
LAST-MODIFIED:20241205T160930Z
UID:27650-1734804000-1734811200@desarrolloarevalo.pixelinnova.com
SUMMARY:"Tardeo Navideño"
DESCRIPTION:Desde Av. Los Deportes\, por Charanga «El Meneito»
URL:https://desarrolloarevalo.pixelinnova.com/evento/tardeo-navideno-2/
CATEGORIES:Actividades
ATTACH;FMTTYPE=image/jpeg:https://desarrolloarevalo.pixelinnova.com/wp-content/uploads/2026/03/Vermu-21.jpg
END:VEVENT
BEGIN:VEVENT
DTSTART;TZID=Europe/Madrid:20241221T190000
DTEND;TZID=Europe/Madrid:20241221T193000
DTSTAMP:20260426T043748
CREATED:20241205T160708Z
LAST-MODIFIED:20241205T160708Z
UID:27649-1734807600-1734809400@desarrolloarevalo.pixelinnova.com
SUMMARY:Espectáculo de magia "Tú Tienes Magia"
DESCRIPTION:Actuación del mago Joaquín Matas \nEntrada libre hasta completar el aforo
URL:https://desarrolloarevalo.pixelinnova.com/evento/espectaculo-de-magia-tu-tienes-magia-3-2/
CATEGORIES:Actividades
ATTACH;FMTTYPE=image/jpeg:https://desarrolloarevalo.pixelinnova.com/wp-content/uploads/2026/03/programacion-navidad-24-25-2.jpg
END:VEVENT
END:VCALENDAR