BEGIN:VCALENDAR
VERSION:2.0
PRODID:-//Ayuntamiento de Arévalo - ECPv6.15.18//NONSGML v1.0//EN
CALSCALE:GREGORIAN
METHOD:PUBLISH
X-ORIGINAL-URL:https://desarrolloarevalo.pixelinnova.com
X-WR-CALDESC:Eventos para Ayuntamiento de Arévalo
REFRESH-INTERVAL;VALUE=DURATION:PT1H
X-Robots-Tag:noindex
X-PUBLISHED-TTL:PT1H
BEGIN:VTIMEZONE
TZID:Europe/Madrid
BEGIN:DAYLIGHT
TZOFFSETFROM:+0100
TZOFFSETTO:+0200
TZNAME:CEST
DTSTART:20230326T010000
END:DAYLIGHT
BEGIN:STANDARD
TZOFFSETFROM:+0200
TZOFFSETTO:+0100
TZNAME:CET
DTSTART:20231029T010000
END:STANDARD
BEGIN:DAYLIGHT
TZOFFSETFROM:+0100
TZOFFSETTO:+0200
TZNAME:CEST
DTSTART:20240331T010000
END:DAYLIGHT
BEGIN:STANDARD
TZOFFSETFROM:+0200
TZOFFSETTO:+0100
TZNAME:CET
DTSTART:20241027T010000
END:STANDARD
BEGIN:DAYLIGHT
TZOFFSETFROM:+0100
TZOFFSETTO:+0200
TZNAME:CEST
DTSTART:20250330T010000
END:DAYLIGHT
BEGIN:STANDARD
TZOFFSETFROM:+0200
TZOFFSETTO:+0100
TZNAME:CET
DTSTART:20251026T010000
END:STANDARD
BEGIN:DAYLIGHT
TZOFFSETFROM:+0100
TZOFFSETTO:+0200
TZNAME:CEST
DTSTART:20260329T010000
END:DAYLIGHT
BEGIN:STANDARD
TZOFFSETFROM:+0200
TZOFFSETTO:+0100
TZNAME:CET
DTSTART:20261025T010000
END:STANDARD
END:VTIMEZONE
BEGIN:VEVENT
DTSTART;TZID=Europe/Madrid:20240919T170000
DTEND;TZID=Europe/Madrid:20250126T194500
DTSTAMP:20260424T095403
CREATED:20240924T080423Z
LAST-MODIFIED:20240924T080423Z
UID:27535-1726765200-1737920700@desarrolloarevalo.pixelinnova.com
SUMMARY:Exposición Collegium
DESCRIPTION:
URL:https://desarrolloarevalo.pixelinnova.com/evento/exposicion-collegium-2-2/
CATEGORIES:Exposición
ATTACH;FMTTYPE=image/png:https://desarrolloarevalo.pixelinnova.com/wp-content/uploads/2026/03/240808_Collegium_Lalluvianovienedelcielo_IGstory.png
END:VEVENT
BEGIN:VEVENT
DTSTART;TZID=Europe/Madrid:20250103T110000
DTEND;TZID=Europe/Madrid:20250103T140000
DTSTAMP:20260424T095403
CREATED:20241210T132501Z
LAST-MODIFIED:20241210T132501Z
UID:27681-1735902000-1735912800@desarrolloarevalo.pixelinnova.com
SUMMARY:PROGRAMA DE PREVENCIÓN DE ADICIONES EN ARÉVALO (NEXUS 2.0) (10-13 AÑOS).
DESCRIPTION:
URL:https://desarrolloarevalo.pixelinnova.com/evento/programa-de-prevencion-de-adiciones-en-arevalo-nexus-2-0-10-13-anos-6-2/
CATEGORIES:Actividades
END:VEVENT
BEGIN:VEVENT
DTSTART;TZID=Europe/Madrid:20250103T180000
DTEND;TZID=Europe/Madrid:20250103T200000
DTSTAMP:20260424T095403
CREATED:20241205T174720Z
LAST-MODIFIED:20241205T174720Z
UID:27668-1735927200-1735934400@desarrolloarevalo.pixelinnova.com
SUMMARY:Llegada del "Cartero Real"
DESCRIPTION:
URL:https://desarrolloarevalo.pixelinnova.com/evento/llegada-del-cartero-real-2/
CATEGORIES:Actividades
ATTACH;FMTTYPE=image/jpeg:https://desarrolloarevalo.pixelinnova.com/wp-content/uploads/2026/03/1000227570.jpg
END:VEVENT
END:VCALENDAR