BEGIN:VCALENDAR
VERSION:2.0
PRODID:-//Ayuntamiento de Arévalo - ECPv6.15.18//NONSGML v1.0//EN
CALSCALE:GREGORIAN
METHOD:PUBLISH
X-WR-CALNAME:Ayuntamiento de Arévalo
X-ORIGINAL-URL:https://desarrolloarevalo.pixelinnova.com
X-WR-CALDESC:Eventos para Ayuntamiento de Arévalo
REFRESH-INTERVAL;VALUE=DURATION:PT1H
X-Robots-Tag:noindex
X-PUBLISHED-TTL:PT1H
BEGIN:VTIMEZONE
TZID:Europe/Madrid
BEGIN:DAYLIGHT
TZOFFSETFROM:+0100
TZOFFSETTO:+0200
TZNAME:CEST
DTSTART:20240331T010000
END:DAYLIGHT
BEGIN:STANDARD
TZOFFSETFROM:+0200
TZOFFSETTO:+0100
TZNAME:CET
DTSTART:20241027T010000
END:STANDARD
BEGIN:DAYLIGHT
TZOFFSETFROM:+0100
TZOFFSETTO:+0200
TZNAME:CEST
DTSTART:20250330T010000
END:DAYLIGHT
BEGIN:STANDARD
TZOFFSETFROM:+0200
TZOFFSETTO:+0100
TZNAME:CET
DTSTART:20251026T010000
END:STANDARD
BEGIN:DAYLIGHT
TZOFFSETFROM:+0100
TZOFFSETTO:+0200
TZNAME:CEST
DTSTART:20260329T010000
END:DAYLIGHT
BEGIN:STANDARD
TZOFFSETFROM:+0200
TZOFFSETTO:+0100
TZNAME:CET
DTSTART:20261025T010000
END:STANDARD
END:VTIMEZONE
BEGIN:VEVENT
DTSTART;TZID=Europe/Madrid:20250130T100000
DTEND;TZID=Europe/Madrid:20250130T120000
DTSTAMP:20260424T094638
CREATED:20250123T082649Z
LAST-MODIFIED:20250123T082649Z
UID:27718-1738231200-1738238400@desarrolloarevalo.pixelinnova.com
SUMMARY:Terceras Jornadas de Networking en Arévalo
DESCRIPTION:
URL:https://desarrolloarevalo.pixelinnova.com/evento/terceras-jornadas-de-networking-en-arevalo-2/
CATEGORIES:Actividades
ATTACH;FMTTYPE=image/jpeg:https://desarrolloarevalo.pixelinnova.com/wp-content/uploads/2026/03/tercera-jornada-networking-en-Arevalo.jpg
END:VEVENT
BEGIN:VEVENT
DTSTART;TZID=Europe/Madrid:20250130T201500
DTEND;TZID=Europe/Madrid:20250201T213000
DTSTAMP:20260424T094638
CREATED:20250113T085227Z
LAST-MODIFIED:20250113T085227Z
UID:27684-1738268100-1738445400@desarrolloarevalo.pixelinnova.com
SUMMARY:Novena Ntra Sra de Las Angustias
DESCRIPTION:
URL:https://desarrolloarevalo.pixelinnova.com/evento/novena-ntra-sra-de-las-angustias-4/
CATEGORIES:Actividades
ATTACH;FMTTYPE=image/jpeg:https://desarrolloarevalo.pixelinnova.com/wp-content/uploads/2026/03/Cartel-Angustias-2025-1.jpg
END:VEVENT
END:VCALENDAR