BEGIN:VCALENDAR
VERSION:2.0
PRODID:-//Ayuntamiento de Arévalo - ECPv6.15.18//NONSGML v1.0//EN
CALSCALE:GREGORIAN
METHOD:PUBLISH
X-WR-CALNAME:Ayuntamiento de Arévalo
X-ORIGINAL-URL:https://desarrolloarevalo.pixelinnova.com
X-WR-CALDESC:Eventos para Ayuntamiento de Arévalo
REFRESH-INTERVAL;VALUE=DURATION:PT1H
X-Robots-Tag:noindex
X-PUBLISHED-TTL:PT1H
BEGIN:VTIMEZONE
TZID:Europe/Madrid
BEGIN:DAYLIGHT
TZOFFSETFROM:+0100
TZOFFSETTO:+0200
TZNAME:CEST
DTSTART:20240331T010000
END:DAYLIGHT
BEGIN:STANDARD
TZOFFSETFROM:+0200
TZOFFSETTO:+0100
TZNAME:CET
DTSTART:20241027T010000
END:STANDARD
BEGIN:DAYLIGHT
TZOFFSETFROM:+0100
TZOFFSETTO:+0200
TZNAME:CEST
DTSTART:20250330T010000
END:DAYLIGHT
BEGIN:STANDARD
TZOFFSETFROM:+0200
TZOFFSETTO:+0100
TZNAME:CET
DTSTART:20251026T010000
END:STANDARD
BEGIN:DAYLIGHT
TZOFFSETFROM:+0100
TZOFFSETTO:+0200
TZNAME:CEST
DTSTART:20260329T010000
END:DAYLIGHT
BEGIN:STANDARD
TZOFFSETFROM:+0200
TZOFFSETTO:+0100
TZNAME:CET
DTSTART:20261025T010000
END:STANDARD
END:VTIMEZONE
BEGIN:VEVENT
DTSTART;TZID=Europe/Madrid:20250130T201500
DTEND;TZID=Europe/Madrid:20250201T213000
DTSTAMP:20260424T094618
CREATED:20250113T085227Z
LAST-MODIFIED:20250113T085227Z
UID:27684-1738268100-1738445400@desarrolloarevalo.pixelinnova.com
SUMMARY:Novena Ntra Sra de Las Angustias
DESCRIPTION:
URL:https://desarrolloarevalo.pixelinnova.com/evento/novena-ntra-sra-de-las-angustias-4/
CATEGORIES:Actividades
ATTACH;FMTTYPE=image/jpeg:https://desarrolloarevalo.pixelinnova.com/wp-content/uploads/2026/03/Cartel-Angustias-2025-1.jpg
END:VEVENT
BEGIN:VEVENT
DTSTART;TZID=Europe/Madrid:20250201T100000
DTEND;TZID=Europe/Madrid:20250201T130000
DTSTAMP:20260424T094618
CREATED:20250123T084946Z
LAST-MODIFIED:20250123T084946Z
UID:27719-1738404000-1738414800@desarrolloarevalo.pixelinnova.com
SUMMARY:II Encuentro de Familias
DESCRIPTION:
URL:https://desarrolloarevalo.pixelinnova.com/evento/ii-encuentro-de-familias-2/
CATEGORIES:Actividades
END:VEVENT
BEGIN:VEVENT
DTSTART;TZID=Europe/Madrid:20250201T160000
DTEND;TZID=Europe/Madrid:20250201T180000
DTSTAMP:20260424T094618
CREATED:20250113T091036Z
LAST-MODIFIED:20250113T091036Z
UID:27689-1738425600-1738432800@desarrolloarevalo.pixelinnova.com
SUMMARY:Juegos tradicionales para los/as mas pequeños/as
DESCRIPTION:
URL:https://desarrolloarevalo.pixelinnova.com/evento/juegos-tradicionales-para-los-as-mas-pequenos-as-2/
CATEGORIES:Actividades
END:VEVENT
BEGIN:VEVENT
DTSTART;TZID=Europe/Madrid:20250201T180000
DTEND;TZID=Europe/Madrid:20250201T200000
DTSTAMP:20260424T094618
CREATED:20250113T091818Z
LAST-MODIFIED:20250113T091818Z
UID:27690-1738432800-1738440000@desarrolloarevalo.pixelinnova.com
SUMMARY:Misa en Honor a Ntra Sra de Las Candelas
DESCRIPTION:
URL:https://desarrolloarevalo.pixelinnova.com/evento/misa-en-honor-a-ntra-sra-de-las-candelas-2/
ATTACH;FMTTYPE=image/jpeg:https://desarrolloarevalo.pixelinnova.com/wp-content/uploads/2026/03/Las-Candelas.jpg
END:VEVENT
BEGIN:VEVENT
DTSTART;TZID=Europe/Madrid:20250201T200000
DTEND;TZID=Europe/Madrid:20250201T220000
DTSTAMP:20260424T094618
CREATED:20250120T083745Z
LAST-MODIFIED:20250120T083745Z
UID:27708-1738440000-1738447200@desarrolloarevalo.pixelinnova.com
SUMMARY:Ocio Juvenil de 9 a 14 años
DESCRIPTION:
URL:https://desarrolloarevalo.pixelinnova.com/evento/ocio-juvenil-de-9-a-14-anos-2-2/
CATEGORIES:Actividades
ATTACH;FMTTYPE=image/jpeg:https://desarrolloarevalo.pixelinnova.com/wp-content/uploads/2026/03/2025_Ocio_Juvenil.jpg
END:VEVENT
BEGIN:VEVENT
DTSTART;TZID=Europe/Madrid:20250201T211500
DTEND;TZID=Europe/Madrid:20250201T220000
DTSTAMP:20260424T094618
CREATED:20250113T092112Z
LAST-MODIFIED:20250113T092112Z
UID:27691-1738444500-1738447200@desarrolloarevalo.pixelinnova.com
SUMMARY:Pasacalles con Cabezudos y dulzainas
DESCRIPTION:
URL:https://desarrolloarevalo.pixelinnova.com/evento/pasacalles-con-cabezudos-y-dulzainas-2/
ATTACH;FMTTYPE=image/jpeg:https://desarrolloarevalo.pixelinnova.com/wp-content/uploads/2026/03/Las-Candelas.jpg
END:VEVENT
END:VCALENDAR