BEGIN:VCALENDAR
VERSION:2.0
PRODID:-//Ayuntamiento de Arévalo - ECPv6.15.18//NONSGML v1.0//EN
CALSCALE:GREGORIAN
METHOD:PUBLISH
X-ORIGINAL-URL:https://desarrolloarevalo.pixelinnova.com
X-WR-CALDESC:Eventos para Ayuntamiento de Arévalo
REFRESH-INTERVAL;VALUE=DURATION:PT1H
X-Robots-Tag:noindex
X-PUBLISHED-TTL:PT1H
BEGIN:VTIMEZONE
TZID:Europe/Madrid
BEGIN:DAYLIGHT
TZOFFSETFROM:+0100
TZOFFSETTO:+0200
TZNAME:CEST
DTSTART:20240331T010000
END:DAYLIGHT
BEGIN:STANDARD
TZOFFSETFROM:+0200
TZOFFSETTO:+0100
TZNAME:CET
DTSTART:20241027T010000
END:STANDARD
BEGIN:DAYLIGHT
TZOFFSETFROM:+0100
TZOFFSETTO:+0200
TZNAME:CEST
DTSTART:20250330T010000
END:DAYLIGHT
BEGIN:STANDARD
TZOFFSETFROM:+0200
TZOFFSETTO:+0100
TZNAME:CET
DTSTART:20251026T010000
END:STANDARD
BEGIN:DAYLIGHT
TZOFFSETFROM:+0100
TZOFFSETTO:+0200
TZNAME:CEST
DTSTART:20260329T010000
END:DAYLIGHT
BEGIN:STANDARD
TZOFFSETFROM:+0200
TZOFFSETTO:+0100
TZNAME:CET
DTSTART:20261025T010000
END:STANDARD
END:VTIMEZONE
BEGIN:VEVENT
DTSTART;TZID=Europe/Madrid:20250302T120000
DTEND;TZID=Europe/Madrid:20250302T140000
DTSTAMP:20260424T095414
CREATED:20250217T084735Z
LAST-MODIFIED:20250217T084735Z
UID:27726-1740916800-1740924000@desarrolloarevalo.pixelinnova.com
SUMMARY:DESFILE Y CONCURSO DE CARNAVAL 2025
DESCRIPTION:En la Avenida Emilio Romero\, desde el Parque Vellando hasta la Calle Isabel de Portugal (Zona de los Muleteros) Al finalizar se hará entrega de premios en la Plaza del Arrabal
URL:https://desarrolloarevalo.pixelinnova.com/evento/desfile-y-concurso-de-carnaval-2025-2/
CATEGORIES:Actividades
ATTACH;FMTTYPE=image/jpeg:https://desarrolloarevalo.pixelinnova.com/wp-content/uploads/2026/03/Carnaval-2025-Actividades-Arevalo-1.jpg
END:VEVENT
END:VCALENDAR