BEGIN:VCALENDAR
VERSION:2.0
PRODID:-//Ayuntamiento de Arévalo - ECPv6.15.18//NONSGML v1.0//EN
CALSCALE:GREGORIAN
METHOD:PUBLISH
X-WR-CALNAME:Ayuntamiento de Arévalo
X-ORIGINAL-URL:https://desarrolloarevalo.pixelinnova.com
X-WR-CALDESC:Eventos para Ayuntamiento de Arévalo
REFRESH-INTERVAL;VALUE=DURATION:PT1H
X-Robots-Tag:noindex
X-PUBLISHED-TTL:PT1H
BEGIN:VTIMEZONE
TZID:Europe/Madrid
BEGIN:DAYLIGHT
TZOFFSETFROM:+0100
TZOFFSETTO:+0200
TZNAME:CEST
DTSTART:20240331T010000
END:DAYLIGHT
BEGIN:STANDARD
TZOFFSETFROM:+0200
TZOFFSETTO:+0100
TZNAME:CET
DTSTART:20241027T010000
END:STANDARD
BEGIN:DAYLIGHT
TZOFFSETFROM:+0100
TZOFFSETTO:+0200
TZNAME:CEST
DTSTART:20250330T010000
END:DAYLIGHT
BEGIN:STANDARD
TZOFFSETFROM:+0200
TZOFFSETTO:+0100
TZNAME:CET
DTSTART:20251026T010000
END:STANDARD
BEGIN:DAYLIGHT
TZOFFSETFROM:+0100
TZOFFSETTO:+0200
TZNAME:CEST
DTSTART:20260329T010000
END:DAYLIGHT
BEGIN:STANDARD
TZOFFSETFROM:+0200
TZOFFSETTO:+0100
TZNAME:CET
DTSTART:20261025T010000
END:STANDARD
END:VTIMEZONE
BEGIN:VEVENT
DTSTART;VALUE=DATE:20250303
DTEND;VALUE=DATE:20250322
DTSTAMP:20260424T095331
CREATED:20250303T074410Z
LAST-MODIFIED:20250303T074410Z
UID:27741-1740960000-1742601599@desarrolloarevalo.pixelinnova.com
SUMMARY:II Concurso Infantil y Juvenil de Marcapáginas de Arévalo
DESCRIPTION:De 5 a 17 años (2 categorías: Infantil y Juvenil) \nPlazo para presentar tu Marcapáginas 21 de marzo
URL:https://desarrolloarevalo.pixelinnova.com/evento/ii-concurso-infantil-y-juvenil-de-marcapaginas-de-arevalo-2/
CATEGORIES:Actividades
ATTACH;FMTTYPE=image/png:https://desarrolloarevalo.pixelinnova.com/wp-content/uploads/2026/03/Copia-de-CONCURSO-DE-MARCA-PAGINAS.png
END:VEVENT
BEGIN:VEVENT
DTSTART;VALUE=DATE:20250303
DTEND;VALUE=DATE:20250329
DTSTAMP:20260424T095331
CREATED:20250303T074940Z
LAST-MODIFIED:20250303T074940Z
UID:27742-1740960000-1743206399@desarrolloarevalo.pixelinnova.com
SUMMARY:I Concurso de Carteles del Día del Libro Infantil y Juvenil
DESCRIPTION:Plazo para presentar tu cartel: 28 de marzo \nDe 8 a 16 años (2 categorías: Infantil y Juvenil)
URL:https://desarrolloarevalo.pixelinnova.com/evento/i-concurso-de-carteles-del-dia-del-libro-infantil-y-juvenil-2/
CATEGORIES:Actividades
ATTACH;FMTTYPE=image/png:https://desarrolloarevalo.pixelinnova.com/wp-content/uploads/2026/03/Copia-de-Copia-de-CONCURSO-DE-MARCA-PAGINAS.png
END:VEVENT
BEGIN:VEVENT
DTSTART;TZID=Europe/Madrid:20250303T170000
DTEND;TZID=Europe/Madrid:20250303T190000
DTSTAMP:20260424T095332
CREATED:20250217T085248Z
LAST-MODIFIED:20250217T085248Z
UID:27728-1741021200-1741028400@desarrolloarevalo.pixelinnova.com
SUMMARY:Carnival Party
DESCRIPTION:Aforo limitado para niños y niñas de 3 años a 12 años por orden de llegada
URL:https://desarrolloarevalo.pixelinnova.com/evento/carnival-party-2-2/
CATEGORIES:Actividades
ATTACH;FMTTYPE=image/jpeg:https://desarrolloarevalo.pixelinnova.com/wp-content/uploads/2026/03/IMG_1740583497562.jpg
END:VEVENT
END:VCALENDAR