BEGIN:VCALENDAR
VERSION:2.0
PRODID:-//Ayuntamiento de Arévalo - ECPv6.15.18//NONSGML v1.0//EN
CALSCALE:GREGORIAN
METHOD:PUBLISH
X-ORIGINAL-URL:https://desarrolloarevalo.pixelinnova.com
X-WR-CALDESC:Eventos para Ayuntamiento de Arévalo
REFRESH-INTERVAL;VALUE=DURATION:PT1H
X-Robots-Tag:noindex
X-PUBLISHED-TTL:PT1H
BEGIN:VTIMEZONE
TZID:Europe/Madrid
BEGIN:DAYLIGHT
TZOFFSETFROM:+0100
TZOFFSETTO:+0200
TZNAME:CEST
DTSTART:20240331T010000
END:DAYLIGHT
BEGIN:STANDARD
TZOFFSETFROM:+0200
TZOFFSETTO:+0100
TZNAME:CET
DTSTART:20241027T010000
END:STANDARD
BEGIN:DAYLIGHT
TZOFFSETFROM:+0100
TZOFFSETTO:+0200
TZNAME:CEST
DTSTART:20250330T010000
END:DAYLIGHT
BEGIN:STANDARD
TZOFFSETFROM:+0200
TZOFFSETTO:+0100
TZNAME:CET
DTSTART:20251026T010000
END:STANDARD
BEGIN:DAYLIGHT
TZOFFSETFROM:+0100
TZOFFSETTO:+0200
TZNAME:CEST
DTSTART:20260329T010000
END:DAYLIGHT
BEGIN:STANDARD
TZOFFSETFROM:+0200
TZOFFSETTO:+0100
TZNAME:CET
DTSTART:20261025T010000
END:STANDARD
END:VTIMEZONE
BEGIN:VEVENT
DTSTART;VALUE=DATE:20250304
DTEND;VALUE=DATE:20250908
DTSTAMP:20260421T212828
CREATED:20250305T153433Z
LAST-MODIFIED:20250305T153433Z
UID:27747-1741046400-1757289599@desarrolloarevalo.pixelinnova.com
SUMMARY:Exposición “Cuántos Ángeles caben en la punta de un alfiler”
DESCRIPTION:De jueves a domingo de 11:00 – 14:00 y de 17:00 – 19:45 \n 
URL:https://desarrolloarevalo.pixelinnova.com/evento/exposicion-cuantos-angeles-caben-en-la-punta-de-un-alfiler-2/
CATEGORIES:Actividades,Cultura,Exposición
ATTACH;FMTTYPE=image/jpeg:https://desarrolloarevalo.pixelinnova.com/wp-content/uploads/2026/03/expo-collegium.jpg
END:VEVENT
BEGIN:VEVENT
DTSTART;TZID=Europe/Madrid:20250706T235900
DTEND;TZID=Europe/Madrid:20250707T030000
DTSTAMP:20260421T212828
CREATED:20250624T080044Z
LAST-MODIFIED:20250624T080044Z
UID:27844-1751846340-1751857200@desarrolloarevalo.pixelinnova.com
SUMMARY:Grupo “La Huella”
DESCRIPTION:
URL:https://desarrolloarevalo.pixelinnova.com/evento/grupo-la-huella-2/
CATEGORIES:Conciertos
ATTACH;FMTTYPE=image/png:https://desarrolloarevalo.pixelinnova.com/wp-content/uploads/2026/03/Escudo.png
END:VEVENT
BEGIN:VEVENT
DTSTART;TZID=Europe/Madrid:20250707T120000
DTEND;TZID=Europe/Madrid:20250707T140000
DTSTAMP:20260421T212828
CREATED:20250624T080036Z
LAST-MODIFIED:20250624T080036Z
UID:27845-1751889600-1751896800@desarrolloarevalo.pixelinnova.com
SUMMARY:Misa Solemne en honor de nuestro Patrón San Victorino Mártir
DESCRIPTION:Imposición de medallas a los/as nuevos/as cofrades \nA continuación\, Procesión de la reliquia del Patrón\, amenizada por la Banda Municipal de Música
URL:https://desarrolloarevalo.pixelinnova.com/evento/misa-solemne-en-honor-de-nuestro-patron-san-victorino-martir-2-2/
CATEGORIES:Actividades
ATTACH;FMTTYPE=image/png:https://desarrolloarevalo.pixelinnova.com/wp-content/uploads/2026/03/Escudo.png
END:VEVENT
BEGIN:VEVENT
DTSTART;TZID=Europe/Madrid:20250707T170000
DTEND;TZID=Europe/Madrid:20250707T190000
DTSTAMP:20260421T212828
CREATED:20250624T080058Z
LAST-MODIFIED:20250624T080058Z
UID:27846-1751907600-1751914800@desarrolloarevalo.pixelinnova.com
SUMMARY:Carrera Ciclista\, LXXIII Edición Trofeo “Ferias y Fiestas”
DESCRIPTION:Memorial Enrique Duarte Sarabia \nCategoría: Élite-SUB
URL:https://desarrolloarevalo.pixelinnova.com/evento/carrera-ciclista-lxxiii-edicion-trofeo-ferias-y-fiestas-2/
CATEGORIES:Actividades
ATTACH;FMTTYPE=image/png:https://desarrolloarevalo.pixelinnova.com/wp-content/uploads/2026/03/Escudo.png
END:VEVENT
BEGIN:VEVENT
DTSTART;TZID=Europe/Madrid:20250707T180000
DTEND;TZID=Europe/Madrid:20250707T200000
DTSTAMP:20260421T212828
CREATED:20250624T080043Z
LAST-MODIFIED:20250624T080043Z
UID:27847-1751911200-1751918400@desarrolloarevalo.pixelinnova.com
SUMMARY:Actividades Infantiles
DESCRIPTION:Música\, bailes divertidos\, juegos dinámicos\, globoflexia\, búsqueda del tesoro…
URL:https://desarrolloarevalo.pixelinnova.com/evento/actividades-infantiles-2-2/
CATEGORIES:Actividades
ATTACH;FMTTYPE=image/png:https://desarrolloarevalo.pixelinnova.com/wp-content/uploads/2026/03/Escudo.png
END:VEVENT
BEGIN:VEVENT
DTSTART;TZID=Europe/Madrid:20250707T200000
DTEND;TZID=Europe/Madrid:20250707T220000
DTSTAMP:20260421T212828
CREATED:20250624T080043Z
LAST-MODIFIED:20250624T080043Z
UID:27848-1751918400-1751925600@desarrolloarevalo.pixelinnova.com
SUMMARY:Concierto Ferias 2025 Coral “La Moraña”
DESCRIPTION:
URL:https://desarrolloarevalo.pixelinnova.com/evento/actuacion-de-coral-la-morana-2/
CATEGORIES:Conciertos
ATTACH;FMTTYPE=image/jpeg:https://desarrolloarevalo.pixelinnova.com/wp-content/uploads/2026/03/IMG-20250616-WA0069.jpg
END:VEVENT
BEGIN:VEVENT
DTSTART;TZID=Europe/Madrid:20250707T220000
DTEND;TZID=Europe/Madrid:20250707T230000
DTSTAMP:20260421T212828
CREATED:20250624T080058Z
LAST-MODIFIED:20250624T080058Z
UID:27849-1751925600-1751929200@desarrolloarevalo.pixelinnova.com
SUMMARY:Encierro de reses bravas
DESCRIPTION:Seguidamente en la plaza de toros\, capea popular \nAmenizado por la Charanga “El Boquerón”
URL:https://desarrolloarevalo.pixelinnova.com/evento/encierro-de-reses-bravas-6-2/
CATEGORIES:Actividades
ATTACH;FMTTYPE=image/jpeg:https://desarrolloarevalo.pixelinnova.com/wp-content/uploads/2026/03/Encierros-2025.jpg
END:VEVENT
BEGIN:VEVENT
DTSTART;TZID=Europe/Madrid:20250707T235900
DTEND;TZID=Europe/Madrid:20250708T030000
DTSTAMP:20260421T212828
CREATED:20250624T080035Z
LAST-MODIFIED:20250624T080035Z
UID:27850-1751932740-1751943600@desarrolloarevalo.pixelinnova.com
SUMMARY:Macro Disco “Renovation Experience”
DESCRIPTION:Dj Zamorano Ricky Galende
URL:https://desarrolloarevalo.pixelinnova.com/evento/macro-disco-renovation-experience-2-2/
CATEGORIES:Conciertos
ATTACH;FMTTYPE=image/png:https://desarrolloarevalo.pixelinnova.com/wp-content/uploads/2026/03/Escudo.png
END:VEVENT
END:VCALENDAR