BEGIN:VCALENDAR
VERSION:2.0
PRODID:-//Ayuntamiento de Arévalo - ECPv6.15.18//NONSGML v1.0//EN
CALSCALE:GREGORIAN
METHOD:PUBLISH
X-WR-CALNAME:Ayuntamiento de Arévalo
X-ORIGINAL-URL:https://desarrolloarevalo.pixelinnova.com
X-WR-CALDESC:Eventos para Ayuntamiento de Arévalo
REFRESH-INTERVAL;VALUE=DURATION:PT1H
X-Robots-Tag:noindex
X-PUBLISHED-TTL:PT1H
BEGIN:VTIMEZONE
TZID:Europe/Madrid
BEGIN:DAYLIGHT
TZOFFSETFROM:+0100
TZOFFSETTO:+0200
TZNAME:CEST
DTSTART:20240331T010000
END:DAYLIGHT
BEGIN:STANDARD
TZOFFSETFROM:+0200
TZOFFSETTO:+0100
TZNAME:CET
DTSTART:20241027T010000
END:STANDARD
BEGIN:DAYLIGHT
TZOFFSETFROM:+0100
TZOFFSETTO:+0200
TZNAME:CEST
DTSTART:20250330T010000
END:DAYLIGHT
BEGIN:STANDARD
TZOFFSETFROM:+0200
TZOFFSETTO:+0100
TZNAME:CET
DTSTART:20251026T010000
END:STANDARD
BEGIN:DAYLIGHT
TZOFFSETFROM:+0100
TZOFFSETTO:+0200
TZNAME:CEST
DTSTART:20260329T010000
END:DAYLIGHT
BEGIN:STANDARD
TZOFFSETFROM:+0200
TZOFFSETTO:+0100
TZNAME:CET
DTSTART:20261025T010000
END:STANDARD
END:VTIMEZONE
BEGIN:VEVENT
DTSTART;VALUE=DATE:20250304
DTEND;VALUE=DATE:20250908
DTSTAMP:20260421T152936
CREATED:20250305T153433Z
LAST-MODIFIED:20250305T153433Z
UID:27747-1741046400-1757289599@desarrolloarevalo.pixelinnova.com
SUMMARY:Exposición “Cuántos Ángeles caben en la punta de un alfiler”
DESCRIPTION:De jueves a domingo de 11:00 – 14:00 y de 17:00 – 19:45 \n 
URL:https://desarrolloarevalo.pixelinnova.com/evento/exposicion-cuantos-angeles-caben-en-la-punta-de-un-alfiler-2/
CATEGORIES:Actividades,Cultura,Exposición
ATTACH;FMTTYPE=image/jpeg:https://desarrolloarevalo.pixelinnova.com/wp-content/uploads/2026/03/expo-collegium.jpg
END:VEVENT
BEGIN:VEVENT
DTSTART;TZID=Europe/Madrid:20250708T235900
DTEND;TZID=Europe/Madrid:20250709T030000
DTSTAMP:20260421T152936
CREATED:20250624T080041Z
LAST-MODIFIED:20250624T080041Z
UID:27858-1752019140-1752030000@desarrolloarevalo.pixelinnova.com
SUMMARY:Orquesta “Génesis”
DESCRIPTION:
URL:https://desarrolloarevalo.pixelinnova.com/evento/orquesta-genesis-2/
CATEGORIES:Conciertos
ATTACH;FMTTYPE=image/png:https://desarrolloarevalo.pixelinnova.com/wp-content/uploads/2026/03/Escudo.png
END:VEVENT
BEGIN:VEVENT
DTSTART;TZID=Europe/Madrid:20250709T120000
DTEND;TZID=Europe/Madrid:20250709T140000
DTSTAMP:20260421T152936
CREATED:20250624T080047Z
LAST-MODIFIED:20250624T080047Z
UID:27859-1752062400-1752069600@desarrolloarevalo.pixelinnova.com
SUMMARY:Concurso de Dibujo Infantil
DESCRIPTION:Edades de 0 a 14 años
URL:https://desarrolloarevalo.pixelinnova.com/evento/concurso-de-dibujo-infantil-2-2/
CATEGORIES:Actividades
ATTACH;FMTTYPE=image/png:https://desarrolloarevalo.pixelinnova.com/wp-content/uploads/2026/03/Escudo.png
END:VEVENT
BEGIN:VEVENT
DTSTART;TZID=Europe/Madrid:20250709T180000
DTEND;TZID=Europe/Madrid:20250709T200000
DTSTAMP:20260421T152936
CREATED:20250624T080022Z
LAST-MODIFIED:20250624T080022Z
UID:27860-1752084000-1752091200@desarrolloarevalo.pixelinnova.com
SUMMARY:Fiesta para Nuestros/as Mayores
DESCRIPTION:Amenizada por las dulzainas y tamboriles de “Al Pan Pan»
URL:https://desarrolloarevalo.pixelinnova.com/evento/fiesta-para-nuestros-as-mayores-2-2/
CATEGORIES:Actividades
ATTACH;FMTTYPE=image/png:https://desarrolloarevalo.pixelinnova.com/wp-content/uploads/2026/03/Escudo.png
END:VEVENT
BEGIN:VEVENT
DTSTART;TZID=Europe/Madrid:20250709T190000
DTEND;TZID=Europe/Madrid:20250709T210000
DTSTAMP:20260421T152936
CREATED:20250624T080047Z
LAST-MODIFIED:20250624T080047Z
UID:27861-1752087600-1752094800@desarrolloarevalo.pixelinnova.com
SUMMARY:Peque-Encierro con Carretones
DESCRIPTION:
URL:https://desarrolloarevalo.pixelinnova.com/evento/peque-encierro-con-carretones-2-2/
CATEGORIES:Actividades
ATTACH;FMTTYPE=image/png:https://desarrolloarevalo.pixelinnova.com/wp-content/uploads/2026/03/Escudo.png
END:VEVENT
BEGIN:VEVENT
DTSTART;TZID=Europe/Madrid:20250709T220000
DTEND;TZID=Europe/Madrid:20250709T230000
DTSTAMP:20260421T152936
CREATED:20250624T080030Z
LAST-MODIFIED:20250624T080030Z
UID:27862-1752098400-1752102000@desarrolloarevalo.pixelinnova.com
SUMMARY:Actuación Grupo “Aljibe"
DESCRIPTION:
URL:https://desarrolloarevalo.pixelinnova.com/evento/actuacion-grupo-aljibe-2/
CATEGORIES:Conciertos
ATTACH;FMTTYPE=image/png:https://desarrolloarevalo.pixelinnova.com/wp-content/uploads/2026/03/Escudo.png
END:VEVENT
BEGIN:VEVENT
DTSTART;TZID=Europe/Madrid:20250709T230000
DTEND;TZID=Europe/Madrid:20250710T020000
DTSTAMP:20260421T152936
CREATED:20250624T080042Z
LAST-MODIFIED:20250624T080042Z
UID:27863-1752102000-1752112800@desarrolloarevalo.pixelinnova.com
SUMMARY:II Concurso de Jóvenes DJ´s
DESCRIPTION:Contaremos con la presencia del DJ de reconocido prestigio “Sergei Rez” \nMás información en programa aparte
URL:https://desarrolloarevalo.pixelinnova.com/evento/ii-concurso-de-jovenes-djs-2/
CATEGORIES:Conciertos
ATTACH;FMTTYPE=image/png:https://desarrolloarevalo.pixelinnova.com/wp-content/uploads/2026/03/Cartel-II-CONCURSO-DJS-AREVALO-1.png
END:VEVENT
END:VCALENDAR