BEGIN:VCALENDAR
VERSION:2.0
PRODID:-//Ayuntamiento de Arévalo - ECPv6.15.18//NONSGML v1.0//EN
CALSCALE:GREGORIAN
METHOD:PUBLISH
X-ORIGINAL-URL:https://desarrolloarevalo.pixelinnova.com
X-WR-CALDESC:Eventos para Ayuntamiento de Arévalo
REFRESH-INTERVAL;VALUE=DURATION:PT1H
X-Robots-Tag:noindex
X-PUBLISHED-TTL:PT1H
BEGIN:VTIMEZONE
TZID:Europe/Madrid
BEGIN:DAYLIGHT
TZOFFSETFROM:+0100
TZOFFSETTO:+0200
TZNAME:CEST
DTSTART:20240331T010000
END:DAYLIGHT
BEGIN:STANDARD
TZOFFSETFROM:+0200
TZOFFSETTO:+0100
TZNAME:CET
DTSTART:20241027T010000
END:STANDARD
BEGIN:DAYLIGHT
TZOFFSETFROM:+0100
TZOFFSETTO:+0200
TZNAME:CEST
DTSTART:20250330T010000
END:DAYLIGHT
BEGIN:STANDARD
TZOFFSETFROM:+0200
TZOFFSETTO:+0100
TZNAME:CET
DTSTART:20251026T010000
END:STANDARD
BEGIN:DAYLIGHT
TZOFFSETFROM:+0100
TZOFFSETTO:+0200
TZNAME:CEST
DTSTART:20260329T010000
END:DAYLIGHT
BEGIN:STANDARD
TZOFFSETFROM:+0200
TZOFFSETTO:+0100
TZNAME:CET
DTSTART:20261025T010000
END:STANDARD
END:VTIMEZONE
BEGIN:VEVENT
DTSTART;VALUE=DATE:20250304
DTEND;VALUE=DATE:20250908
DTSTAMP:20260421T212818
CREATED:20250305T153433Z
LAST-MODIFIED:20250305T153433Z
UID:27747-1741046400-1757289599@desarrolloarevalo.pixelinnova.com
SUMMARY:Exposición “Cuántos Ángeles caben en la punta de un alfiler”
DESCRIPTION:De jueves a domingo de 11:00 – 14:00 y de 17:00 – 19:45 \n 
URL:https://desarrolloarevalo.pixelinnova.com/evento/exposicion-cuantos-angeles-caben-en-la-punta-de-un-alfiler-2/
CATEGORIES:Actividades,Cultura,Exposición
ATTACH;FMTTYPE=image/jpeg:https://desarrolloarevalo.pixelinnova.com/wp-content/uploads/2026/03/expo-collegium.jpg
END:VEVENT
BEGIN:VEVENT
DTSTART;TZID=Europe/Madrid:20250709T230000
DTEND;TZID=Europe/Madrid:20250710T020000
DTSTAMP:20260421T212818
CREATED:20250624T080042Z
LAST-MODIFIED:20250624T080042Z
UID:27863-1752102000-1752112800@desarrolloarevalo.pixelinnova.com
SUMMARY:II Concurso de Jóvenes DJ´s
DESCRIPTION:Contaremos con la presencia del DJ de reconocido prestigio “Sergei Rez” \nMás información en programa aparte
URL:https://desarrolloarevalo.pixelinnova.com/evento/ii-concurso-de-jovenes-djs-2/
CATEGORIES:Conciertos
ATTACH;FMTTYPE=image/png:https://desarrolloarevalo.pixelinnova.com/wp-content/uploads/2026/03/Cartel-II-CONCURSO-DJS-AREVALO-1.png
END:VEVENT
BEGIN:VEVENT
DTSTART;TZID=Europe/Madrid:20250710T120000
DTEND;TZID=Europe/Madrid:20250710T130000
DTSTAMP:20260421T212818
CREATED:20250624T080045Z
LAST-MODIFIED:20250624T080045Z
UID:27864-1752148800-1752152400@desarrolloarevalo.pixelinnova.com
SUMMARY:Entrega de Premios del Concurso de Dibujo Infantil
DESCRIPTION:A continuación\, entrega de premios del XXII Concurso de Redacción Taurina y de XVI Concurso de Dibujo Taurino \nOrganizados por la Peña Taurina Arevalense
URL:https://desarrolloarevalo.pixelinnova.com/evento/entrega-de-premios-del-concurso-de-dibujo-infantil-2/
CATEGORIES:Actividades
ATTACH;FMTTYPE=image/png:https://desarrolloarevalo.pixelinnova.com/wp-content/uploads/2026/03/Escudo.png
END:VEVENT
BEGIN:VEVENT
DTSTART;TZID=Europe/Madrid:20250710T130000
DTEND;TZID=Europe/Madrid:20250710T170000
DTSTAMP:20260421T212818
CREATED:20250624T080000Z
LAST-MODIFIED:20250624T080000Z
UID:27865-1752152400-1752166800@desarrolloarevalo.pixelinnova.com
SUMMARY:Vermú Musical de Peñas “Tropical Edition”
DESCRIPTION:Amenizado por La Charanga “Cucu Band” y La “Electrocharanga Ciclomotores” \nMás información en cartel a aparte
URL:https://desarrolloarevalo.pixelinnova.com/evento/vermu-musical-de-penas-tropical-edition-2/
CATEGORIES:Actividades
ATTACH;FMTTYPE=image/png:https://desarrolloarevalo.pixelinnova.com/wp-content/uploads/2026/03/Escudo.png
END:VEVENT
BEGIN:VEVENT
DTSTART;TZID=Europe/Madrid:20250710T194500
DTEND;TZID=Europe/Madrid:20250710T214500
DTSTAMP:20260421T212818
CREATED:20250624T080059Z
LAST-MODIFIED:20250624T080059Z
UID:27866-1752176700-1752183900@desarrolloarevalo.pixelinnova.com
SUMMARY:Discomóvil Show Infantil “Peke Open”
DESCRIPTION:
URL:https://desarrolloarevalo.pixelinnova.com/evento/discomovil-show-infantil-peke-open-2/
CATEGORIES:Actividades
ATTACH;FMTTYPE=image/png:https://desarrolloarevalo.pixelinnova.com/wp-content/uploads/2026/03/Escudo.png
END:VEVENT
BEGIN:VEVENT
DTSTART;TZID=Europe/Madrid:20250710T220000
DTEND;TZID=Europe/Madrid:20250710T233000
DTSTAMP:20260421T212818
CREATED:20250624T080032Z
LAST-MODIFIED:20250624T080032Z
UID:27867-1752184800-1752190200@desarrolloarevalo.pixelinnova.com
SUMMARY:Encierro de reses bravas
DESCRIPTION:Seguidamente en la Plaza de Toros\, Capea Popular \nAmenizado por La Charanga “El Conejo de La Loles”
URL:https://desarrolloarevalo.pixelinnova.com/evento/encierro-de-reses-bravas-7-2/
CATEGORIES:Actividades
ATTACH;FMTTYPE=image/jpeg:https://desarrolloarevalo.pixelinnova.com/wp-content/uploads/2026/03/Encierros-2025.jpg
END:VEVENT
BEGIN:VEVENT
DTSTART;TZID=Europe/Madrid:20250710T235900
DTEND;TZID=Europe/Madrid:20250711T030000
DTSTAMP:20260421T212818
CREATED:20250624T080057Z
LAST-MODIFIED:20250624T080057Z
UID:27868-1752191940-1752202800@desarrolloarevalo.pixelinnova.com
SUMMARY:Orquesta “Diamante Show Band”
DESCRIPTION:
URL:https://desarrolloarevalo.pixelinnova.com/evento/orquesta-diamante-show-band-2/
CATEGORIES:Conciertos
ATTACH;FMTTYPE=image/png:https://desarrolloarevalo.pixelinnova.com/wp-content/uploads/2026/03/Escudo.png
END:VEVENT
END:VCALENDAR