BEGIN:VCALENDAR
VERSION:2.0
PRODID:-//Ayuntamiento de Arévalo - ECPv6.15.18//NONSGML v1.0//EN
CALSCALE:GREGORIAN
METHOD:PUBLISH
X-ORIGINAL-URL:https://desarrolloarevalo.pixelinnova.com
X-WR-CALDESC:Eventos para Ayuntamiento de Arévalo
REFRESH-INTERVAL;VALUE=DURATION:PT1H
X-Robots-Tag:noindex
X-PUBLISHED-TTL:PT1H
BEGIN:VTIMEZONE
TZID:Europe/Madrid
BEGIN:DAYLIGHT
TZOFFSETFROM:+0100
TZOFFSETTO:+0200
TZNAME:CEST
DTSTART:20240331T010000
END:DAYLIGHT
BEGIN:STANDARD
TZOFFSETFROM:+0200
TZOFFSETTO:+0100
TZNAME:CET
DTSTART:20241027T010000
END:STANDARD
BEGIN:DAYLIGHT
TZOFFSETFROM:+0100
TZOFFSETTO:+0200
TZNAME:CEST
DTSTART:20250330T010000
END:DAYLIGHT
BEGIN:STANDARD
TZOFFSETFROM:+0200
TZOFFSETTO:+0100
TZNAME:CET
DTSTART:20251026T010000
END:STANDARD
BEGIN:DAYLIGHT
TZOFFSETFROM:+0100
TZOFFSETTO:+0200
TZNAME:CEST
DTSTART:20260329T010000
END:DAYLIGHT
BEGIN:STANDARD
TZOFFSETFROM:+0200
TZOFFSETTO:+0100
TZNAME:CET
DTSTART:20261025T010000
END:STANDARD
END:VTIMEZONE
BEGIN:VEVENT
DTSTART;VALUE=DATE:20250304
DTEND;VALUE=DATE:20250908
DTSTAMP:20260421T212758
CREATED:20250305T153433Z
LAST-MODIFIED:20250305T153433Z
UID:27747-1741046400-1757289599@desarrolloarevalo.pixelinnova.com
SUMMARY:Exposición “Cuántos Ángeles caben en la punta de un alfiler”
DESCRIPTION:De jueves a domingo de 11:00 – 14:00 y de 17:00 – 19:45 \n 
URL:https://desarrolloarevalo.pixelinnova.com/evento/exposicion-cuantos-angeles-caben-en-la-punta-de-un-alfiler-2/
CATEGORIES:Actividades,Cultura,Exposición
ATTACH;FMTTYPE=image/jpeg:https://desarrolloarevalo.pixelinnova.com/wp-content/uploads/2026/03/expo-collegium.jpg
END:VEVENT
BEGIN:VEVENT
DTSTART;TZID=Europe/Madrid:20250711T235900
DTEND;TZID=Europe/Madrid:20250712T030000
DTSTAMP:20260421T212758
CREATED:20250624T080047Z
LAST-MODIFIED:20250624T080047Z
UID:27872-1752278340-1752289200@desarrolloarevalo.pixelinnova.com
SUMMARY:Actuación del Grupo “Pikante”
DESCRIPTION:
URL:https://desarrolloarevalo.pixelinnova.com/evento/actuacion-del-grupo-pikante-2/
CATEGORIES:Conciertos
ATTACH;FMTTYPE=image/png:https://desarrolloarevalo.pixelinnova.com/wp-content/uploads/2026/03/Escudo.png
END:VEVENT
BEGIN:VEVENT
DTSTART;TZID=Europe/Madrid:20250712T100000
DTEND;TZID=Europe/Madrid:20250824T193000
DTSTAMP:20260421T212758
CREATED:20250701T123110Z
LAST-MODIFIED:20250701T123110Z
UID:27885-1752314400-1756063800@desarrolloarevalo.pixelinnova.com
SUMMARY:Exposición “Encanto”
DESCRIPTION:Martes a Domingo: de 10:00 a 14: 00 \nMartes a Miércoles: 16:30 a 18:30 \nJueves a Sábado: 16:30 a 19:30
URL:https://desarrolloarevalo.pixelinnova.com/evento/exposicion-encanto-2/
CATEGORIES:Exposición
ATTACH;FMTTYPE=image/jpeg:https://desarrolloarevalo.pixelinnova.com/wp-content/uploads/2026/03/Cartel-Impreso-A3-scaled-1.jpg
END:VEVENT
BEGIN:VEVENT
DTSTART;TZID=Europe/Madrid:20250712T110000
DTEND;TZID=Europe/Madrid:20250712T130000
DTSTAMP:20260421T212758
CREATED:20250624T080059Z
LAST-MODIFIED:20250624T080059Z
UID:27873-1752318000-1752325200@desarrolloarevalo.pixelinnova.com
SUMMARY:Parque Infantil con Atracciones Hinchables y Fiesta de la Espuma
DESCRIPTION:
URL:https://desarrolloarevalo.pixelinnova.com/evento/parque-infantil-con-atracciones-hinchables-y-fiesta-de-la-espuma-4-2/
CATEGORIES:Actividades
ATTACH;FMTTYPE=image/png:https://desarrolloarevalo.pixelinnova.com/wp-content/uploads/2026/03/Escudo.png
END:VEVENT
BEGIN:VEVENT
DTSTART;TZID=Europe/Madrid:20250712T193000
DTEND;TZID=Europe/Madrid:20250712T213000
DTSTAMP:20260421T212758
CREATED:20250624T080033Z
LAST-MODIFIED:20250624T080033Z
UID:27874-1752348600-1752355800@desarrolloarevalo.pixelinnova.com
SUMMARY:Excepcional Corrida de Rejones
DESCRIPTION:Toros de la Ganadería D. Luis Albarrán \nRejoneadores: Andy Cartagena\, Diego Ventura y Sergio Pérez De Gregorio \nLa Corrida estará amenizada por La Banda Municipal De Música \nMás información en programa aparte
URL:https://desarrolloarevalo.pixelinnova.com/evento/excepcional-corrida-de-rejones-2/
CATEGORIES:Actividades
ATTACH;FMTTYPE=image/jpeg:https://desarrolloarevalo.pixelinnova.com/wp-content/uploads/2026/03/Feria-taurina-2025-Arevalo.jpg
END:VEVENT
BEGIN:VEVENT
DTSTART;TZID=Europe/Madrid:20250712T235900
DTEND;TZID=Europe/Madrid:20250713T030000
DTSTAMP:20260421T212758
CREATED:20250624T080057Z
LAST-MODIFIED:20250624T080057Z
UID:27875-1752364740-1752375600@desarrolloarevalo.pixelinnova.com
SUMMARY:Actuación del Grupo “La Reina Show”
DESCRIPTION:En el descanso y a la finalización\, Black Box mini escenario móvil con “DJ Sergi OT” \nSeguidamente\, desde la Plaza del Arrabal hasta la Plaza de Toros\, amenizará las calles de Arévalo la Charanga “La Juerga”
URL:https://desarrolloarevalo.pixelinnova.com/evento/actuacion-del-grupo-la-reina-show-2/
CATEGORIES:Conciertos
ATTACH;FMTTYPE=image/png:https://desarrolloarevalo.pixelinnova.com/wp-content/uploads/2026/03/Escudo.png
END:VEVENT
END:VCALENDAR