BEGIN:VCALENDAR
VERSION:2.0
PRODID:-//Ayuntamiento de Arévalo - ECPv6.15.18//NONSGML v1.0//EN
CALSCALE:GREGORIAN
METHOD:PUBLISH
X-ORIGINAL-URL:https://desarrolloarevalo.pixelinnova.com
X-WR-CALDESC:Eventos para Ayuntamiento de Arévalo
REFRESH-INTERVAL;VALUE=DURATION:PT1H
X-Robots-Tag:noindex
X-PUBLISHED-TTL:PT1H
BEGIN:VTIMEZONE
TZID:Europe/Madrid
BEGIN:DAYLIGHT
TZOFFSETFROM:+0100
TZOFFSETTO:+0200
TZNAME:CEST
DTSTART:20240331T010000
END:DAYLIGHT
BEGIN:STANDARD
TZOFFSETFROM:+0200
TZOFFSETTO:+0100
TZNAME:CET
DTSTART:20241027T010000
END:STANDARD
BEGIN:DAYLIGHT
TZOFFSETFROM:+0100
TZOFFSETTO:+0200
TZNAME:CEST
DTSTART:20250330T010000
END:DAYLIGHT
BEGIN:STANDARD
TZOFFSETFROM:+0200
TZOFFSETTO:+0100
TZNAME:CET
DTSTART:20251026T010000
END:STANDARD
BEGIN:DAYLIGHT
TZOFFSETFROM:+0100
TZOFFSETTO:+0200
TZNAME:CEST
DTSTART:20260329T010000
END:DAYLIGHT
BEGIN:STANDARD
TZOFFSETFROM:+0200
TZOFFSETTO:+0100
TZNAME:CET
DTSTART:20261025T010000
END:STANDARD
END:VTIMEZONE
BEGIN:VEVENT
DTSTART;VALUE=DATE:20250304
DTEND;VALUE=DATE:20250908
DTSTAMP:20260422T141519
CREATED:20250305T153433Z
LAST-MODIFIED:20250305T153433Z
UID:27747-1741046400-1757289599@desarrolloarevalo.pixelinnova.com
SUMMARY:Exposición “Cuántos Ángeles caben en la punta de un alfiler”
DESCRIPTION:De jueves a domingo de 11:00 – 14:00 y de 17:00 – 19:45 \n 
URL:https://desarrolloarevalo.pixelinnova.com/evento/exposicion-cuantos-angeles-caben-en-la-punta-de-un-alfiler-2/
CATEGORIES:Actividades,Cultura,Exposición
ATTACH;FMTTYPE=image/jpeg:https://desarrolloarevalo.pixelinnova.com/wp-content/uploads/2026/03/expo-collegium.jpg
END:VEVENT
BEGIN:VEVENT
DTSTART;TZID=Europe/Madrid:20250712T100000
DTEND;TZID=Europe/Madrid:20250824T193000
DTSTAMP:20260422T141519
CREATED:20250701T123110Z
LAST-MODIFIED:20250701T123110Z
UID:27885-1752314400-1756063800@desarrolloarevalo.pixelinnova.com
SUMMARY:Exposición “Encanto”
DESCRIPTION:Martes a Domingo: de 10:00 a 14: 00 \nMartes a Miércoles: 16:30 a 18:30 \nJueves a Sábado: 16:30 a 19:30
URL:https://desarrolloarevalo.pixelinnova.com/evento/exposicion-encanto-2/
CATEGORIES:Exposición
ATTACH;FMTTYPE=image/jpeg:https://desarrolloarevalo.pixelinnova.com/wp-content/uploads/2026/03/Cartel-Impreso-A3-scaled-1.jpg
END:VEVENT
BEGIN:VEVENT
DTSTART;TZID=Europe/Madrid:20250712T235900
DTEND;TZID=Europe/Madrid:20250713T030000
DTSTAMP:20260422T141519
CREATED:20250624T080057Z
LAST-MODIFIED:20250624T080057Z
UID:27875-1752364740-1752375600@desarrolloarevalo.pixelinnova.com
SUMMARY:Actuación del Grupo “La Reina Show”
DESCRIPTION:En el descanso y a la finalización\, Black Box mini escenario móvil con “DJ Sergi OT” \nSeguidamente\, desde la Plaza del Arrabal hasta la Plaza de Toros\, amenizará las calles de Arévalo la Charanga “La Juerga”
URL:https://desarrolloarevalo.pixelinnova.com/evento/actuacion-del-grupo-la-reina-show-2/
CATEGORIES:Conciertos
ATTACH;FMTTYPE=image/png:https://desarrolloarevalo.pixelinnova.com/wp-content/uploads/2026/03/Escudo.png
END:VEVENT
BEGIN:VEVENT
DTSTART;TZID=Europe/Madrid:20250713T070000
DTEND;TZID=Europe/Madrid:20250713T080000
DTSTAMP:20260422T141519
CREATED:20250624T080042Z
LAST-MODIFIED:20250624T080042Z
UID:27876-1752390000-1752393600@desarrolloarevalo.pixelinnova.com
SUMMARY:Encierro de reses bravas y suelta del “Tradicional Novillo del Alba Enguantado”
DESCRIPTION:Seguidamente\, capea popular\, amenizado por la Charanga “La Juerga”
URL:https://desarrolloarevalo.pixelinnova.com/evento/encierro-de-reses-bravas-y-suelta-del-tradicional-novillo-del-alba-enguantado-2/
CATEGORIES:Actividades
ATTACH;FMTTYPE=image/jpeg:https://desarrolloarevalo.pixelinnova.com/wp-content/uploads/2026/03/Encierros-2025.jpg
END:VEVENT
BEGIN:VEVENT
DTSTART;TZID=Europe/Madrid:20250713T080000
DTEND;TZID=Europe/Madrid:20250713T090000
DTSTAMP:20260422T141519
CREATED:20250624T080029Z
LAST-MODIFIED:20250624T080029Z
UID:27877-1752393600-1752397200@desarrolloarevalo.pixelinnova.com
SUMMARY:Degustación de Sopas de Ajo y Chocolate
DESCRIPTION:Colaboración de la Asociación Cultural “La Queda”
URL:https://desarrolloarevalo.pixelinnova.com/evento/degustacion-de-sopas-de-ajo-y-chocolate-4-2/
CATEGORIES:Actividades
ATTACH;FMTTYPE=image/png:https://desarrolloarevalo.pixelinnova.com/wp-content/uploads/2026/03/Escudo.png
END:VEVENT
BEGIN:VEVENT
DTSTART;TZID=Europe/Madrid:20250713T210000
DTEND;TZID=Europe/Madrid:20250713T230000
DTSTAMP:20260422T141519
CREATED:20250624T080037Z
LAST-MODIFIED:20250624T080037Z
UID:27878-1752440400-1752447600@desarrolloarevalo.pixelinnova.com
SUMMARY:Desfile de Carrozas y Variedades\, con Gigantes y Cabezudos de Zamora y Arévalo
DESCRIPTION:Acompañados por las dulzainas y tamboriles de “Armusinme”\, charanga “El Meneito”\, Banda Municipal de Música\, Asociación Cultural La Queda\, Comparsa Fusión-Arte y Peñas de Arévalo.
URL:https://desarrolloarevalo.pixelinnova.com/evento/desfile-de-carrozas-y-variedades-con-gigantes-y-cabezudos-de-zamora-y-arevalo-2/
CATEGORIES:Actividades
ATTACH;FMTTYPE=image/png:https://desarrolloarevalo.pixelinnova.com/wp-content/uploads/2026/03/Escudo.png
END:VEVENT
BEGIN:VEVENT
DTSTART;TZID=Europe/Madrid:20250713T235500
DTEND;TZID=Europe/Madrid:20250714T013000
DTSTAMP:20260422T141519
CREATED:20250624T080019Z
LAST-MODIFIED:20250624T080019Z
UID:27879-1752450900-1752456600@desarrolloarevalo.pixelinnova.com
SUMMARY:Encierro de reses bravas
DESCRIPTION:Seguidamente capea popular amenizado por la Charanga “El Meneito”
URL:https://desarrolloarevalo.pixelinnova.com/evento/encierro-de-reses-bravas-9-2/
CATEGORIES:Actividades
ATTACH;FMTTYPE=image/jpeg:https://desarrolloarevalo.pixelinnova.com/wp-content/uploads/2026/03/Encierros-2025.jpg
END:VEVENT
END:VCALENDAR