BEGIN:VCALENDAR
VERSION:2.0
PRODID:-//Ayuntamiento de Arévalo - ECPv6.15.18//NONSGML v1.0//EN
CALSCALE:GREGORIAN
METHOD:PUBLISH
X-WR-CALNAME:Ayuntamiento de Arévalo
X-ORIGINAL-URL:https://desarrolloarevalo.pixelinnova.com
X-WR-CALDESC:Eventos para Ayuntamiento de Arévalo
REFRESH-INTERVAL;VALUE=DURATION:PT1H
X-Robots-Tag:noindex
X-PUBLISHED-TTL:PT1H
BEGIN:VTIMEZONE
TZID:Europe/Madrid
BEGIN:DAYLIGHT
TZOFFSETFROM:+0100
TZOFFSETTO:+0200
TZNAME:CEST
DTSTART:20240331T010000
END:DAYLIGHT
BEGIN:STANDARD
TZOFFSETFROM:+0200
TZOFFSETTO:+0100
TZNAME:CET
DTSTART:20241027T010000
END:STANDARD
BEGIN:DAYLIGHT
TZOFFSETFROM:+0100
TZOFFSETTO:+0200
TZNAME:CEST
DTSTART:20250330T010000
END:DAYLIGHT
BEGIN:STANDARD
TZOFFSETFROM:+0200
TZOFFSETTO:+0100
TZNAME:CET
DTSTART:20251026T010000
END:STANDARD
BEGIN:DAYLIGHT
TZOFFSETFROM:+0100
TZOFFSETTO:+0200
TZNAME:CEST
DTSTART:20260329T010000
END:DAYLIGHT
BEGIN:STANDARD
TZOFFSETFROM:+0200
TZOFFSETTO:+0100
TZNAME:CET
DTSTART:20261025T010000
END:STANDARD
END:VTIMEZONE
BEGIN:VEVENT
DTSTART;VALUE=DATE:20250304
DTEND;VALUE=DATE:20250908
DTSTAMP:20260422T002251
CREATED:20250305T153433Z
LAST-MODIFIED:20250305T153433Z
UID:27747-1741046400-1757289599@desarrolloarevalo.pixelinnova.com
SUMMARY:Exposición “Cuántos Ángeles caben en la punta de un alfiler”
DESCRIPTION:De jueves a domingo de 11:00 – 14:00 y de 17:00 – 19:45 \n 
URL:https://desarrolloarevalo.pixelinnova.com/evento/exposicion-cuantos-angeles-caben-en-la-punta-de-un-alfiler-2/
CATEGORIES:Actividades,Cultura,Exposición
ATTACH;FMTTYPE=image/jpeg:https://desarrolloarevalo.pixelinnova.com/wp-content/uploads/2026/03/expo-collegium.jpg
END:VEVENT
BEGIN:VEVENT
DTSTART;TZID=Europe/Madrid:20250603T160000
DTEND;TZID=Europe/Madrid:20250605T183000
DTSTAMP:20260422T002251
CREATED:20250513T114156Z
LAST-MODIFIED:20250513T114156Z
UID:27799-1748966400-1749148200@desarrolloarevalo.pixelinnova.com
SUMMARY:Aprende a manejar la Inteligencia Artificial
DESCRIPTION:
URL:https://desarrolloarevalo.pixelinnova.com/evento/aprende-a-manejar-la-inteligencia-artificial-2/
CATEGORIES:Actividades
ATTACH;FMTTYPE=image/jpeg:https://desarrolloarevalo.pixelinnova.com/wp-content/uploads/2026/03/manejar-ai.jpg
END:VEVENT
BEGIN:VEVENT
DTSTART;TZID=Europe/Madrid:20250613T110000
DTEND;TZID=Europe/Madrid:20250613T203000
DTSTAMP:20260422T002251
CREATED:20250611T095046Z
LAST-MODIFIED:20250611T095046Z
UID:27880-1749812400-1749846600@desarrolloarevalo.pixelinnova.com
SUMMARY:Apertura Piscina Municipal
DESCRIPTION:
URL:https://desarrolloarevalo.pixelinnova.com/evento/apertura-piscina-municipal-2-2/
CATEGORIES:Actividades
ATTACH;FMTTYPE=image/jpeg:https://desarrolloarevalo.pixelinnova.com/wp-content/uploads/2026/03/5-06-11_09-31-04-628.jpg
END:VEVENT
BEGIN:VEVENT
DTSTART;TZID=Europe/Madrid:20250613T120000
DTEND;TZID=Europe/Madrid:20250613T140000
DTSTAMP:20260422T002251
CREATED:20250605T083033Z
LAST-MODIFIED:20250605T083033Z
UID:27814-1749816000-1749823200@desarrolloarevalo.pixelinnova.com
SUMMARY:Misa Solemne en honor de San Antonio de Padua
DESCRIPTION:A continuación\, Procesión amenizada con dulzaina y tamboril
URL:https://desarrolloarevalo.pixelinnova.com/evento/misa-solemne-en-honor-de-san-antonio-de-padua-2/
CATEGORIES:Actividades
ATTACH;FMTTYPE=image/png:https://desarrolloarevalo.pixelinnova.com/wp-content/uploads/2026/03/1000316173.png
END:VEVENT
BEGIN:VEVENT
DTSTART;TZID=Europe/Madrid:20250613T193000
DTEND;TZID=Europe/Madrid:20250613T213000
DTSTAMP:20260422T002251
CREATED:20250603T063924Z
LAST-MODIFIED:20250603T063924Z
UID:27809-1749843000-1749850200@desarrolloarevalo.pixelinnova.com
SUMMARY:Fiesta del Patinaje
DESCRIPTION:
URL:https://desarrolloarevalo.pixelinnova.com/evento/fiesta-del-patinaje-2-2/
CATEGORIES:Actividades
ATTACH;FMTTYPE=image/jpeg:https://desarrolloarevalo.pixelinnova.com/wp-content/uploads/2026/03/25-06-03_07-40-34-888.jpg
END:VEVENT
BEGIN:VEVENT
DTSTART;TZID=Europe/Madrid:20250614T190000
DTEND;TZID=Europe/Madrid:20250614T200000
DTSTAMP:20260422T002251
CREATED:20250603T114738Z
LAST-MODIFIED:20250603T114738Z
UID:27810-1749927600-1749931200@desarrolloarevalo.pixelinnova.com
SUMMARY:V VencejoFest Arévalo - "El viaje de los 3 Mosquiteros"
DESCRIPTION:
URL:https://desarrolloarevalo.pixelinnova.com/evento/v-vencejofest-arevalo-el-viaje-de-los-3-mosquiteros-2/
CATEGORIES:Actividades
ATTACH;FMTTYPE=image/jpeg:https://desarrolloarevalo.pixelinnova.com/wp-content/uploads/2026/03/IMG_1748950629513.jpg
END:VEVENT
BEGIN:VEVENT
DTSTART;TZID=Europe/Madrid:20250614T193000
DTEND;TZID=Europe/Madrid:20250614T204500
DTSTAMP:20260422T002251
CREATED:20250607T080010Z
LAST-MODIFIED:20250607T080010Z
UID:27815-1749929400-1749933900@desarrolloarevalo.pixelinnova.com
SUMMARY:Salida de los/as cofrades de Ntra. Sra. del Camino
DESCRIPTION:Traslado de la Virgen desde la Ermita a la Iglesia de San Juan
URL:https://desarrolloarevalo.pixelinnova.com/evento/salida-de-los-as-cofrades-de-ntra-sra-del-camino-2/
CATEGORIES:Actividades
ATTACH;FMTTYPE=image/jpeg:https://desarrolloarevalo.pixelinnova.com/wp-content/uploads/2026/03/1000316164.jpg
END:VEVENT
BEGIN:VEVENT
DTSTART;TZID=Europe/Madrid:20250614T200000
DTEND;TZID=Europe/Madrid:20250614T210000
DTSTAMP:20260422T002251
CREATED:20250603T114935Z
LAST-MODIFIED:20250603T114935Z
UID:27811-1749931200-1749934800@desarrolloarevalo.pixelinnova.com
SUMMARY:V VencejoFest Arévalo - Diez años de censo del avión común en Arévalo
DESCRIPTION:
URL:https://desarrolloarevalo.pixelinnova.com/evento/v-vencejofest-arevalo-diez-anos-de-censo-del-avion-comun-en-arevalo-2/
CATEGORIES:Actividades
ATTACH;FMTTYPE=image/jpeg:https://desarrolloarevalo.pixelinnova.com/wp-content/uploads/2026/03/IMG_1748950629513.jpg
END:VEVENT
BEGIN:VEVENT
DTSTART;TZID=Europe/Madrid:20250614T210000
DTEND;TZID=Europe/Madrid:20250614T213000
DTSTAMP:20260422T002251
CREATED:20250603T115116Z
LAST-MODIFIED:20250603T115116Z
UID:27812-1749934800-1749936600@desarrolloarevalo.pixelinnova.com
SUMMARY:V VencejoFest Arévalo - Concurso de Fotoidentificación con premios
DESCRIPTION:
URL:https://desarrolloarevalo.pixelinnova.com/evento/v-vencejofest-arevalo-concurso-de-fotoidentificacion-con-premios-2/
CATEGORIES:Actividades
ATTACH;FMTTYPE=image/jpeg:https://desarrolloarevalo.pixelinnova.com/wp-content/uploads/2026/03/IMG_1748950629513.jpg
END:VEVENT
BEGIN:VEVENT
DTSTART;TZID=Europe/Madrid:20250614T213000
DTEND;TZID=Europe/Madrid:20250614T223000
DTSTAMP:20260422T002251
CREATED:20250603T115351Z
LAST-MODIFIED:20250603T115351Z
UID:27813-1749936600-1749940200@desarrolloarevalo.pixelinnova.com
SUMMARY:V VencejoFest Arévalo - Mesa informativa y observación de vencejos
DESCRIPTION:
URL:https://desarrolloarevalo.pixelinnova.com/evento/v-vencejofest-arevalo-mesa-informativa-y-observacion-de-vencejos-2/
CATEGORIES:Actividades
ATTACH;FMTTYPE=image/jpeg:https://desarrolloarevalo.pixelinnova.com/wp-content/uploads/2026/03/IMG_1748950629513.jpg
END:VEVENT
BEGIN:VEVENT
DTSTART;TZID=Europe/Madrid:20250615T110000
DTEND;TZID=Europe/Madrid:20250615T130000
DTSTAMP:20260422T002251
CREATED:20250605T083024Z
LAST-MODIFIED:20250605T083024Z
UID:27816-1749985200-1749992400@desarrolloarevalo.pixelinnova.com
SUMMARY:Santa Misa de Hermandad
DESCRIPTION:Imposición de medalla a los nuevos cofrades de «La Caminanta»
URL:https://desarrolloarevalo.pixelinnova.com/evento/santa-misa-de-hermandad-la-caminanta-2/
CATEGORIES:Actividades
ATTACH;FMTTYPE=image/jpeg:https://desarrolloarevalo.pixelinnova.com/wp-content/uploads/2026/03/1000316164.jpg
END:VEVENT
BEGIN:VEVENT
DTSTART;TZID=Europe/Madrid:20250615T194500
DTEND;TZID=Europe/Madrid:20250615T201500
DTSTAMP:20260422T002251
CREATED:20250605T083005Z
LAST-MODIFIED:20250605T083005Z
UID:27817-1750016700-1750018500@desarrolloarevalo.pixelinnova.com
SUMMARY:Traslado de la Virgen del Camino
DESCRIPTION:Desde la iglesia de San Juan hasta su Ermita
URL:https://desarrolloarevalo.pixelinnova.com/evento/traslado-de-la-virgen-del-camino-2/
CATEGORIES:Actividades
ATTACH;FMTTYPE=image/jpeg:https://desarrolloarevalo.pixelinnova.com/wp-content/uploads/2026/03/1000316164.jpg
END:VEVENT
BEGIN:VEVENT
DTSTART;TZID=Europe/Madrid:20250616T080000
DTEND;TZID=Europe/Madrid:20250616T100000
DTSTAMP:20260422T002251
CREATED:20250605T083035Z
LAST-MODIFIED:20250605T083035Z
UID:27822-1750060800-1750068000@desarrolloarevalo.pixelinnova.com
SUMMARY:Santa Misa
DESCRIPTION:En memoria de los cofrades difuntos\, a continuación jotas delante de la Virgen.
URL:https://desarrolloarevalo.pixelinnova.com/evento/santa-misa-2/
CATEGORIES:Actividades
ATTACH;FMTTYPE=image/jpeg:https://desarrolloarevalo.pixelinnova.com/wp-content/uploads/2026/03/1000316164.jpg
END:VEVENT
BEGIN:VEVENT
DTSTART;TZID=Europe/Madrid:20250616T200000
DTEND;TZID=Europe/Madrid:20250616T220000
DTSTAMP:20260422T002251
CREATED:20250605T083010Z
LAST-MODIFIED:20250605T083010Z
UID:27823-1750104000-1750111200@desarrolloarevalo.pixelinnova.com
SUMMARY:Juegos Tradicionales
DESCRIPTION:A continuación\, bailes en el entorno de la Ermita
URL:https://desarrolloarevalo.pixelinnova.com/evento/comida-de-hermandad-2/
CATEGORIES:Actividades
ATTACH;FMTTYPE=image/jpeg:https://desarrolloarevalo.pixelinnova.com/wp-content/uploads/2026/03/1000316164.jpg
END:VEVENT
BEGIN:VEVENT
DTSTART;TZID=Europe/Madrid:20250616T220000
DTEND;TZID=Europe/Madrid:20250616T230000
DTSTAMP:20260422T002251
CREATED:20250605T083011Z
LAST-MODIFIED:20250605T083011Z
UID:27824-1750111200-1750114800@desarrolloarevalo.pixelinnova.com
SUMMARY:Salve y Fin de Fiestas
DESCRIPTION:
URL:https://desarrolloarevalo.pixelinnova.com/evento/salve-y-fin-de-fiestas-2/
CATEGORIES:Actividades
ATTACH;FMTTYPE=image/jpeg:https://desarrolloarevalo.pixelinnova.com/wp-content/uploads/2026/03/1000316164.jpg
END:VEVENT
BEGIN:VEVENT
DTSTART;TZID=Europe/Madrid:20250619T190000
DTEND;TZID=Europe/Madrid:20250619T210000
DTSTAMP:20260422T002251
CREATED:20250607T080022Z
LAST-MODIFIED:20250607T080022Z
UID:27825-1750359600-1750366800@desarrolloarevalo.pixelinnova.com
SUMMARY:Exhibición de Taekwondo
DESCRIPTION:
URL:https://desarrolloarevalo.pixelinnova.com/evento/exhibicion-de-taekwondo-3-2/
CATEGORIES:Actividades
ATTACH;FMTTYPE=image/jpeg:https://desarrolloarevalo.pixelinnova.com/wp-content/uploads/2026/03/Taekwondo.jpg
END:VEVENT
BEGIN:VEVENT
DTSTART;TZID=Europe/Madrid:20250620T200000
DTEND;TZID=Europe/Madrid:20250622T220000
DTSTAMP:20260422T002251
CREATED:20250602T064820Z
LAST-MODIFIED:20250602T064820Z
UID:27808-1750449600-1750629600@desarrolloarevalo.pixelinnova.com
SUMMARY:Torneo de Peñas Autoescuela Castilla
DESCRIPTION:Más información en programa aparte
URL:https://desarrolloarevalo.pixelinnova.com/evento/torneo-de-penas-autoescuela-castilla-2/
CATEGORIES:Actividades
ATTACH;FMTTYPE=image/jpeg:https://desarrolloarevalo.pixelinnova.com/wp-content/uploads/2026/03/IMG_1748708401358.jpg
END:VEVENT
BEGIN:VEVENT
DTSTART;TZID=Europe/Madrid:20250621T180000
DTEND;TZID=Europe/Madrid:20250621T200000
DTSTAMP:20260422T002251
CREATED:20250605T082353Z
LAST-MODIFIED:20250605T082353Z
UID:27819-1750528800-1750536000@desarrolloarevalo.pixelinnova.com
SUMMARY:Gala Benéfica Nuevo Amanecer
DESCRIPTION:Entradas a la venta a partir del 1 de junio
URL:https://desarrolloarevalo.pixelinnova.com/evento/gala-benefica-nuevo-amanecer-3/
CATEGORIES:Actividades
ATTACH;FMTTYPE=image/jpeg:https://desarrolloarevalo.pixelinnova.com/wp-content/uploads/2026/03/1000316179.jpg
END:VEVENT
BEGIN:VEVENT
DTSTART;TZID=Europe/Madrid:20250621T230000
DTEND;TZID=Europe/Madrid:20250622T010000
DTSTAMP:20260422T002251
CREATED:20250605T081815Z
LAST-MODIFIED:20250605T081815Z
UID:27826-1750546800-1750554000@desarrolloarevalo.pixelinnova.com
SUMMARY:La Noche del Solsticio
DESCRIPTION:Textos escritos por Iván Antonio Enríquez \nA las 22:00h apertura de la plaza y encendido de las velas
URL:https://desarrolloarevalo.pixelinnova.com/evento/la-noche-del-solsticio-2/
CATEGORIES:Actividades
ATTACH;FMTTYPE=image/jpeg:https://desarrolloarevalo.pixelinnova.com/wp-content/uploads/2026/03/1000316212.jpg
END:VEVENT
BEGIN:VEVENT
DTSTART;TZID=Europe/Madrid:20250622T180000
DTEND;TZID=Europe/Madrid:20250622T200000
DTSTAMP:20260422T002251
CREATED:20250605T081620Z
LAST-MODIFIED:20250605T081620Z
UID:27820-1750615200-1750622400@desarrolloarevalo.pixelinnova.com
SUMMARY:Gala Benéfica Nuevo Amanecer
DESCRIPTION:Entradas a la venta a partir del 1 de junio
URL:https://desarrolloarevalo.pixelinnova.com/evento/gala-benefica-nuevo-amanecer-2-2/
CATEGORIES:Actividades
ATTACH;FMTTYPE=image/jpeg:https://desarrolloarevalo.pixelinnova.com/wp-content/uploads/2026/03/1000316179.jpg
END:VEVENT
BEGIN:VEVENT
DTSTART;TZID=Europe/Madrid:20250625T120000
DTEND;TZID=Europe/Madrid:20250625T140000
DTSTAMP:20260422T002251
CREATED:20250623T071029Z
LAST-MODIFIED:20250623T071029Z
UID:27883-1750852800-1750860000@desarrolloarevalo.pixelinnova.com
SUMMARY:Está protegido\, pero su piel no
DESCRIPTION:Mesa informativa Prevención ante la exposición solar
URL:https://desarrolloarevalo.pixelinnova.com/evento/esta-protegido-pero-su-piel-no-2/
CATEGORIES:Actividades
ATTACH;FMTTYPE=image/jpeg:https://desarrolloarevalo.pixelinnova.com/wp-content/uploads/2026/03/25-06-23_08-16-25-910.jpg
END:VEVENT
BEGIN:VEVENT
DTSTART;TZID=Europe/Madrid:20250628T120000
DTEND;TZID=Europe/Madrid:20250628T140000
DTSTAMP:20260422T002251
CREATED:20250604T085534Z
LAST-MODIFIED:20250604T085534Z
UID:27821-1751112000-1751119200@desarrolloarevalo.pixelinnova.com
SUMMARY:IX Torneo de Tiro al Plato “Ciudad de Arévalo”
DESCRIPTION:
URL:https://desarrolloarevalo.pixelinnova.com/evento/tiro-al-plato-2-2/
CATEGORIES:Actividades
ATTACH;FMTTYPE=image/png:https://desarrolloarevalo.pixelinnova.com/wp-content/uploads/2026/03/1000316302.png
END:VEVENT
BEGIN:VEVENT
DTSTART;TZID=Europe/Madrid:20250628T190000
DTEND;TZID=Europe/Madrid:20250628T210000
DTSTAMP:20260422T002251
CREATED:20250607T080057Z
LAST-MODIFIED:20250607T080057Z
UID:27828-1751137200-1751144400@desarrolloarevalo.pixelinnova.com
SUMMARY:Actividades Infantiles
DESCRIPTION:Música\, bailes divertidos\, juegos dinámicos\, globoflexia\, experimentos científicos
URL:https://desarrolloarevalo.pixelinnova.com/evento/actividades-infantiles-3/
CATEGORIES:Actividades
ATTACH;FMTTYPE=image/png:https://desarrolloarevalo.pixelinnova.com/wp-content/uploads/2026/03/Escudo.png
END:VEVENT
BEGIN:VEVENT
DTSTART;TZID=Europe/Madrid:20250630T163000
DTEND;TZID=Europe/Madrid:20250630T203000
DTSTAMP:20260422T002251
CREATED:20250625T070339Z
LAST-MODIFIED:20250625T070339Z
UID:27884-1751301000-1751315400@desarrolloarevalo.pixelinnova.com
SUMMARY:Campaña de Donación de Sangre 30 de Junio
DESCRIPTION:
URL:https://desarrolloarevalo.pixelinnova.com/evento/campana-de-donacion-de-sangre-30-de-junio-2/
CATEGORIES:Actividades
ATTACH;FMTTYPE=image/png:https://desarrolloarevalo.pixelinnova.com/wp-content/uploads/2026/03/Arevalo-30062025.png
END:VEVENT
END:VCALENDAR