BEGIN:VCALENDAR
VERSION:2.0
PRODID:-//Ayuntamiento de Arévalo - ECPv6.15.18//NONSGML v1.0//EN
CALSCALE:GREGORIAN
METHOD:PUBLISH
X-WR-CALNAME:Ayuntamiento de Arévalo
X-ORIGINAL-URL:https://desarrolloarevalo.pixelinnova.com
X-WR-CALDESC:Eventos para Ayuntamiento de Arévalo
REFRESH-INTERVAL;VALUE=DURATION:PT1H
X-Robots-Tag:noindex
X-PUBLISHED-TTL:PT1H
BEGIN:VTIMEZONE
TZID:Europe/Madrid
BEGIN:DAYLIGHT
TZOFFSETFROM:+0100
TZOFFSETTO:+0200
TZNAME:CEST
DTSTART:20240331T010000
END:DAYLIGHT
BEGIN:STANDARD
TZOFFSETFROM:+0200
TZOFFSETTO:+0100
TZNAME:CET
DTSTART:20241027T010000
END:STANDARD
BEGIN:DAYLIGHT
TZOFFSETFROM:+0100
TZOFFSETTO:+0200
TZNAME:CEST
DTSTART:20250330T010000
END:DAYLIGHT
BEGIN:STANDARD
TZOFFSETFROM:+0200
TZOFFSETTO:+0100
TZNAME:CET
DTSTART:20251026T010000
END:STANDARD
BEGIN:DAYLIGHT
TZOFFSETFROM:+0100
TZOFFSETTO:+0200
TZNAME:CEST
DTSTART:20260329T010000
END:DAYLIGHT
BEGIN:STANDARD
TZOFFSETFROM:+0200
TZOFFSETTO:+0100
TZNAME:CET
DTSTART:20261025T010000
END:STANDARD
END:VTIMEZONE
BEGIN:VEVENT
DTSTART;TZID=Europe/Madrid:20251004T190000
DTEND;TZID=Europe/Madrid:20251004T210000
DTSTAMP:20260422T170158
CREATED:20250923T070411Z
LAST-MODIFIED:20250923T070411Z
UID:27935-1759604400-1759611600@desarrolloarevalo.pixelinnova.com
SUMMARY:SUSPENDIDO - Espectáculo Teatral “Melocotón En Almíbar” En Beneficio De La Asociación De Autismo De Ávila
DESCRIPTION:
URL:https://desarrolloarevalo.pixelinnova.com/evento/espectaculo-teatral-melocoton-en-almibar-en-beneficio-de-la-asociacion-de-autismo-de-avila-2/
CATEGORIES:Actividades,Teatro
ATTACH;FMTTYPE=image/jpeg:https://desarrolloarevalo.pixelinnova.com/wp-content/uploads/2026/03/SUSPENDIDA-ACTUACION.jpg
END:VEVENT
END:VCALENDAR