BEGIN:VCALENDAR
VERSION:2.0
PRODID:-//Ayuntamiento de Arévalo - ECPv6.15.18//NONSGML v1.0//EN
CALSCALE:GREGORIAN
METHOD:PUBLISH
X-ORIGINAL-URL:https://desarrolloarevalo.pixelinnova.com
X-WR-CALDESC:Eventos para Ayuntamiento de Arévalo
REFRESH-INTERVAL;VALUE=DURATION:PT1H
X-Robots-Tag:noindex
X-PUBLISHED-TTL:PT1H
BEGIN:VTIMEZONE
TZID:Europe/Madrid
BEGIN:DAYLIGHT
TZOFFSETFROM:+0100
TZOFFSETTO:+0200
TZNAME:CEST
DTSTART:20230326T010000
END:DAYLIGHT
BEGIN:STANDARD
TZOFFSETFROM:+0200
TZOFFSETTO:+0100
TZNAME:CET
DTSTART:20231029T010000
END:STANDARD
BEGIN:DAYLIGHT
TZOFFSETFROM:+0100
TZOFFSETTO:+0200
TZNAME:CEST
DTSTART:20240331T010000
END:DAYLIGHT
BEGIN:STANDARD
TZOFFSETFROM:+0200
TZOFFSETTO:+0100
TZNAME:CET
DTSTART:20241027T010000
END:STANDARD
BEGIN:DAYLIGHT
TZOFFSETFROM:+0100
TZOFFSETTO:+0200
TZNAME:CEST
DTSTART:20250330T010000
END:DAYLIGHT
BEGIN:STANDARD
TZOFFSETFROM:+0200
TZOFFSETTO:+0100
TZNAME:CET
DTSTART:20251026T010000
END:STANDARD
BEGIN:DAYLIGHT
TZOFFSETFROM:+0100
TZOFFSETTO:+0200
TZNAME:CEST
DTSTART:20260329T010000
END:DAYLIGHT
BEGIN:STANDARD
TZOFFSETFROM:+0200
TZOFFSETTO:+0100
TZNAME:CET
DTSTART:20261025T010000
END:STANDARD
END:VTIMEZONE
BEGIN:VEVENT
DTSTART;TZID=Europe/Madrid:20240919T170000
DTEND;TZID=Europe/Madrid:20250126T194500
DTSTAMP:20260426T043733
CREATED:20240924T080423Z
LAST-MODIFIED:20240924T080423Z
UID:27535-1726765200-1737920700@desarrolloarevalo.pixelinnova.com
SUMMARY:Exposición Collegium
DESCRIPTION:
URL:https://desarrolloarevalo.pixelinnova.com/evento/exposicion-collegium-2-2/
CATEGORIES:Exposición
ATTACH;FMTTYPE=image/png:https://desarrolloarevalo.pixelinnova.com/wp-content/uploads/2026/03/240808_Collegium_Lalluvianovienedelcielo_IGstory.png
END:VEVENT
BEGIN:VEVENT
DTSTART;TZID=Europe/Madrid:20241101T180000
DTEND;TZID=Europe/Madrid:20241101T200000
DTSTAMP:20260426T043733
CREATED:20241014T064813Z
LAST-MODIFIED:20241014T064813Z
UID:27561-1730484000-1730491200@desarrolloarevalo.pixelinnova.com
SUMMARY:Hotel Transylvania
DESCRIPTION:Entrada libre hasta completar aforo.
URL:https://desarrolloarevalo.pixelinnova.com/evento/hotel-transylvania-2/
CATEGORIES:Actividades
ATTACH;FMTTYPE=image/jpeg:https://desarrolloarevalo.pixelinnova.com/wp-content/uploads/2026/03/IMG-20241011-WA0026.jpg
END:VEVENT
BEGIN:VEVENT
DTSTART;TZID=Europe/Madrid:20241101T180000
DTEND;TZID=Europe/Madrid:20241101T200000
DTSTAMP:20260426T043733
CREATED:20241018T090140Z
LAST-MODIFIED:20241018T090140Z
UID:27570-1730484000-1730491200@desarrolloarevalo.pixelinnova.com
SUMMARY:Halloween Arévalo 2024
DESCRIPTION:Hotel Transilvania
URL:https://desarrolloarevalo.pixelinnova.com/evento/halloween-arevalo-2024-6-2/
CATEGORIES:Actividades
ATTACH;FMTTYPE=image/jpeg:https://desarrolloarevalo.pixelinnova.com/wp-content/uploads/2026/03/IMG-20241018-WA0000.jpg
END:VEVENT
BEGIN:VEVENT
DTSTART;TZID=Europe/Madrid:20241102T193000
DTEND;TZID=Europe/Madrid:20241102T235900
DTSTAMP:20260426T043733
CREATED:20241014T065434Z
LAST-MODIFIED:20241014T065434Z
UID:27562-1730575800-1730591940@desarrolloarevalo.pixelinnova.com
SUMMARY:Halloween Fest Arévalo
DESCRIPTION:DJ Héctor Calderón World Tour.\nMúsica Electrónica Fusionada con vuestras canciones favoritas.\nMacrodiscoteca en tráiler escenario.\n80.000 W de Iluminación.\n64.000 W de sonido.
URL:https://desarrolloarevalo.pixelinnova.com/evento/halloween-fest-arevalo-2/
CATEGORIES:Actividades
ATTACH;FMTTYPE=image/jpeg:https://desarrolloarevalo.pixelinnova.com/wp-content/uploads/2026/03/IMG-20241011-WA0024.jpg
END:VEVENT
BEGIN:VEVENT
DTSTART;TZID=Europe/Madrid:20241102T193000
DTEND;TZID=Europe/Madrid:20241117T000000
DTSTAMP:20260426T043733
CREATED:20241018T090725Z
LAST-MODIFIED:20241018T090725Z
UID:27571-1730575800-1731801600@desarrolloarevalo.pixelinnova.com
SUMMARY:Halloween Arévalo 2024
DESCRIPTION:Halloween Fest  \nEn la zona de los muleteros: Macro Discoteca  \nDJ Hector Calderón (Entre otros artistas)
URL:https://desarrolloarevalo.pixelinnova.com/evento/halloween-arevalo-2024-7-2/
CATEGORIES:Actividades
ATTACH;FMTTYPE=image/jpeg:https://desarrolloarevalo.pixelinnova.com/wp-content/uploads/2026/03/IMG-20241018-WA0000.jpg
END:VEVENT
BEGIN:VEVENT
DTSTART;TZID=Europe/Madrid:20241102T210000
DTEND;TZID=Europe/Madrid:20241102T230000
DTSTAMP:20260426T043733
CREATED:20241002T142439Z
LAST-MODIFIED:20241002T142439Z
UID:27550-1730581200-1730588400@desarrolloarevalo.pixelinnova.com
SUMMARY:XII Muestra de teatro 2024
DESCRIPTION:Obra: «El Florido Pensil»\nGrupo: Contraste
URL:https://desarrolloarevalo.pixelinnova.com/evento/xii-muestra-de-teatro-2024-3-2/
CATEGORIES:Teatro
ATTACH;FMTTYPE=image/jpeg:https://desarrolloarevalo.pixelinnova.com/wp-content/uploads/2026/03/El-florido-pensil-1.jpg
END:VEVENT
BEGIN:VEVENT
DTSTART;TZID=Europe/Madrid:20241103T113000
DTEND;TZID=Europe/Madrid:20241103T133000
DTSTAMP:20260426T043733
CREATED:20241028T073253Z
LAST-MODIFIED:20241028T073253Z
UID:27578-1730633400-1730640600@desarrolloarevalo.pixelinnova.com
SUMMARY:III Ciclomarcha Infantil MTB
DESCRIPTION:Divertidas animaciones \n\nCastillos Hinchables\nPatrulla Canina\nChocolate para todos los asistentes\n\nNiños hasta los 14 años  \nInscripciones gratis Telf. 606880329
URL:https://desarrolloarevalo.pixelinnova.com/evento/iii-ciclomarcha-infantil-mtb-2-2/
CATEGORIES:Actividades
ATTACH;FMTTYPE=image/jpeg:https://desarrolloarevalo.pixelinnova.com/wp-content/uploads/2026/03/N.jpg
END:VEVENT
BEGIN:VEVENT
DTSTART;TZID=Europe/Madrid:20241105T100000
DTEND;TZID=Europe/Madrid:20241105T123000
DTSTAMP:20260426T043733
CREATED:20241023T120414Z
LAST-MODIFIED:20241023T120414Z
UID:27575-1730800800-1730809800@desarrolloarevalo.pixelinnova.com
SUMMARY:Aprende a utilizar SACYL conecta
DESCRIPTION:100% Gratuito\n7\,5 Horas\nCurso Presencial
URL:https://desarrolloarevalo.pixelinnova.com/evento/aprende-a-utilizar-sacyl-conecta-4/
CATEGORIES:Actividades
ATTACH;FMTTYPE=image/jpeg:https://desarrolloarevalo.pixelinnova.com/wp-content/uploads/2026/03/cartel-sacyl-arevalo-_003_.jpg
END:VEVENT
BEGIN:VEVENT
DTSTART;TZID=Europe/Madrid:20241106T100000
DTEND;TZID=Europe/Madrid:20241106T123000
DTSTAMP:20260426T043733
CREATED:20241023T120635Z
LAST-MODIFIED:20241023T120635Z
UID:27576-1730887200-1730896200@desarrolloarevalo.pixelinnova.com
SUMMARY:Aprende a utilizar SACYL conecta
DESCRIPTION:100% Gratuito\n7\,5 Horas\nCurso Presencial
URL:https://desarrolloarevalo.pixelinnova.com/evento/aprende-a-utilizar-sacyl-conecta-2-2/
CATEGORIES:Actividades
ATTACH;FMTTYPE=image/jpeg:https://desarrolloarevalo.pixelinnova.com/wp-content/uploads/2026/03/cartel-sacyl-arevalo-_003_.jpg
END:VEVENT
BEGIN:VEVENT
DTSTART;TZID=Europe/Madrid:20241107T100000
DTEND;TZID=Europe/Madrid:20241107T123000
DTSTAMP:20260426T043733
CREATED:20241023T121020Z
LAST-MODIFIED:20241023T121020Z
UID:27577-1730973600-1730982600@desarrolloarevalo.pixelinnova.com
SUMMARY:Aprende a utilizar SACYL conecta
DESCRIPTION:100% Gratuito\n7\,5 Horas\nCurso Presencial
URL:https://desarrolloarevalo.pixelinnova.com/evento/aprende-a-utilizar-sacyl-conecta-3-2/
CATEGORIES:Actividades
ATTACH;FMTTYPE=image/jpeg:https://desarrolloarevalo.pixelinnova.com/wp-content/uploads/2026/03/cartel-sacyl-arevalo-_003_.jpg
END:VEVENT
BEGIN:VEVENT
DTSTART;TZID=Europe/Madrid:20241108T190000
DTEND;TZID=Europe/Madrid:20241108T230000
DTSTAMP:20260426T043733
CREATED:20241105T155318Z
LAST-MODIFIED:20241105T155318Z
UID:27581-1731092400-1731106800@desarrolloarevalo.pixelinnova.com
SUMMARY:Torneo benéfico por Valencia
DESCRIPTION:Todo lo recaudado será utilizado para Valencia. \nCarnicería Jesús pondrá su camión y destinara parte de los ingresos a la causa.  \nTambién pondrá a disposición una de sus furgonetas para llevar el mismo todos los alimentos\, ropa\, material necesario llevándolo el mismo a Valencia. \nRifa multitudinaria apoyada por el ayuntamiento de Arévalo con donaciones de los comercios del pueblo.  \nDemostremos que lo que pone en nuestro escudo es cierto  \nNOBLES ILUSTRES HUMANITARIOS LEALES \n 
URL:https://desarrolloarevalo.pixelinnova.com/evento/torneo-benefico-por-valencia-2/
CATEGORIES:Actividades
ATTACH;FMTTYPE=image/jpeg:https://desarrolloarevalo.pixelinnova.com/wp-content/uploads/2026/03/24-11-05_08-14-23-885.jpg
END:VEVENT
BEGIN:VEVENT
DTSTART;TZID=Europe/Madrid:20241109T210000
DTEND;TZID=Europe/Madrid:20241109T230000
DTSTAMP:20260426T043733
CREATED:20241002T143022Z
LAST-MODIFIED:20241002T143022Z
UID:27551-1731186000-1731193200@desarrolloarevalo.pixelinnova.com
SUMMARY:XII Muestra de teatro 2024
DESCRIPTION:Obra: «El Lindo Don Diego»\nGrupo: Arcón De Olid
URL:https://desarrolloarevalo.pixelinnova.com/evento/xii-muestra-de-teatro-2024-4-2/
CATEGORIES:Teatro
ATTACH;FMTTYPE=image/jpeg:https://desarrolloarevalo.pixelinnova.com/wp-content/uploads/2026/03/El-lindo-Don-Diego-Buena.jpg
END:VEVENT
BEGIN:VEVENT
DTSTART;TZID=Europe/Madrid:20241110T173000
DTEND;TZID=Europe/Madrid:20241110T193000
DTSTAMP:20260426T043733
CREATED:20241031T120014Z
LAST-MODIFIED:20241031T120014Z
UID:27579-1731259800-1731267000@desarrolloarevalo.pixelinnova.com
SUMMARY:La Madeja narración oral y otros disparates
DESCRIPTION: Presenta:\nLa Vuelta al mundo En\n¿80?\nCuentos\n\nEspectáculo de narración oral para publico familiar\, a partir de 4 años. \nActividades interculturales del ayuntamiento de Arévalo 2024.
URL:https://desarrolloarevalo.pixelinnova.com/evento/la-madeja-narracion-oral-y-otros-disparates-3/
CATEGORIES:Cultura
ATTACH;FMTTYPE=image/jpeg:https://desarrolloarevalo.pixelinnova.com/wp-content/uploads/2026/03/WhatsApp-Image-2024-10-31-at-10.09.27.jpeg
END:VEVENT
BEGIN:VEVENT
DTSTART;TZID=Europe/Madrid:20241110T193000
DTEND;TZID=Europe/Madrid:20241110T213000
DTSTAMP:20260426T043733
CREATED:20241031T120413Z
LAST-MODIFIED:20241031T120413Z
UID:27580-1731267000-1731274200@desarrolloarevalo.pixelinnova.com
SUMMARY:La Madeja narración oral y otros disparates
DESCRIPTION: Presenta:\nCartas Mediterráneas\n\nUn espectáculo de narración oral y lectura dramatizada para publico joven y adulto\, a partir de relatos clasicos y de la tradicion oral. \nIdea\, adaptación y narración con Ana Cadórniga \nActividades interculturales del ayuntamiento de Arévalo 2024.
URL:https://desarrolloarevalo.pixelinnova.com/evento/la-madeja-narracion-oral-y-otros-disparates-2-2/
CATEGORIES:Cultura
ATTACH;FMTTYPE=image/jpeg:https://desarrolloarevalo.pixelinnova.com/wp-content/uploads/2026/03/WhatsApp-Image-2024-10-31-at-10.09.27.jpeg
END:VEVENT
BEGIN:VEVENT
DTSTART;TZID=Europe/Madrid:20241111T000000
DTEND;TZID=Europe/Madrid:20241111T000000
DTSTAMP:20260426T043733
CREATED:20241111T120820Z
LAST-MODIFIED:20241111T120820Z
UID:27587-1731283200-1731283200@desarrolloarevalo.pixelinnova.com
SUMMARY:I Jornadas micológicas I
DESCRIPTION:Salidas guiadas al campo\, dirigidas por Ricardo Ungría \n\nSalida desde el ayuntamiento de Arévalo. Pequeña explicación de las normas de seguridad individual en el campo y de las técnicas para la correcta recolección de setas.\nIMPORTANTE: Los participantes utilizaran sus vehículos particulares\, recomendado que se utilicen todas las plazas disponibles de cada vehículo.\nEs obligatorio el uso de cestas de mimbre y navaja para la recolección de setas\, inscripciones en la oficina de turismo. 
URL:https://desarrolloarevalo.pixelinnova.com/evento/i-jornadas-micologicas-i-2/
CATEGORIES:Actividades
ATTACH;FMTTYPE=image/jpeg:https://desarrolloarevalo.pixelinnova.com/wp-content/uploads/2026/03/Cartel-Jornadas-Micologicas_page-0001.jpg
END:VEVENT
BEGIN:VEVENT
DTSTART;TZID=Europe/Madrid:20241111T080000
DTEND;TZID=Europe/Madrid:20241111T170000
DTSTAMP:20260426T043733
CREATED:20241111T123317Z
LAST-MODIFIED:20241111T123317Z
UID:27595-1731312000-1731344400@desarrolloarevalo.pixelinnova.com
SUMMARY:Degustación de menús y pinchos en los establecimientos hosteleros
DESCRIPTION:Establecimientos participantes y colaboradores\n\nDesirée Asador Casa Felipe (Tapas/Menú)\nEl Figón de Arévalo\nRestaurante Anduriña\nRestaurante El Tostón de Oro\nRestaurante los Cinco Linajes\n\nComparte tu experiencia micológica subiendo las fotos con el siguiente hashtag: #MICOAREV24
URL:https://desarrolloarevalo.pixelinnova.com/evento/degustacion-de-menus-y-pinchos-en-los-establecimientos-hosteleros-2/
CATEGORIES:Actividades
ATTACH;FMTTYPE=image/jpeg:https://desarrolloarevalo.pixelinnova.com/wp-content/uploads/2026/03/DISTINTIVO-1_page-0001.jpg
END:VEVENT
BEGIN:VEVENT
DTSTART;TZID=Europe/Madrid:20241114T134500
DTEND;TZID=Europe/Madrid:20241114T154500
DTSTAMP:20260426T043733
CREATED:20241111T121348Z
LAST-MODIFIED:20241111T121348Z
UID:27592-1731591900-1731599100@desarrolloarevalo.pixelinnova.com
SUMMARY:Menú degustación micologico
DESCRIPTION:Menú degustación micológico \n\nEn el CEPA de Arévalo (Escuela de Adultos)\, servicio prestado por los alumnos del ciclo formativo de cocina y restauración del IES Eulogio Florentino.\nMás información en oficina de turismo.
URL:https://desarrolloarevalo.pixelinnova.com/evento/menu-degustacion-micologico-2/
CATEGORIES:Actividades
ATTACH;FMTTYPE=image/jpeg:https://desarrolloarevalo.pixelinnova.com/wp-content/uploads/2026/03/Menu-micologico_page-0001.jpg
END:VEVENT
BEGIN:VEVENT
DTSTART;TZID=Europe/Madrid:20241114T173000
DTEND;TZID=Europe/Madrid:20241114T193000
DTSTAMP:20260426T043733
CREATED:20241111T121740Z
LAST-MODIFIED:20241111T121740Z
UID:27593-1731605400-1731612600@desarrolloarevalo.pixelinnova.com
SUMMARY:Introducción al mundo de los hongos y buenas practicas
DESCRIPTION:Introducción al mundo de los hongos y buenas prácticas\n\nCharla de Micología a cargo de Enrique Fernández Villamor\, Jefe de desarrollo Rural Y Medio Ambiente de Diputación de Ávila y Presidente de FAMCAL\n(Federacion de asociaciones Micológicas de Castilla y León)
URL:https://desarrolloarevalo.pixelinnova.com/evento/introduccion-al-mundo-de-los-hongos-y-buenas-practicas-2/
CATEGORIES:Actividades
ATTACH;FMTTYPE=image/jpeg:https://desarrolloarevalo.pixelinnova.com/wp-content/uploads/2026/03/maxresdefault.jpg
END:VEVENT
BEGIN:VEVENT
DTSTART;TZID=Europe/Madrid:20241116T130000
DTEND;TZID=Europe/Madrid:20241117T130000
DTSTAMP:20260426T043733
CREATED:20241111T122629Z
LAST-MODIFIED:20241111T122629Z
UID:27594-1731762000-1731848400@desarrolloarevalo.pixelinnova.com
SUMMARY:Taller de clasificación de setas y hongos recogidos por libre
DESCRIPTION:Taller de clasificación de setas y hongos recogidos por libre\n\nA cargo de Ricardo Ungría \nTras la recolección previa de setas y hongos de forma particular\, se realizara un taller de reconocimiento y clasificación en la Casa del Concejo (Plaza del Real).\nLos ejemplares serán expuestos en el Centro de Interpretación de la Naturaleza durante el fin de semana.
URL:https://desarrolloarevalo.pixelinnova.com/evento/taller-de-clasificacion-de-setas-y-hongos-recogidos-por-libre-2/
CATEGORIES:Actividades
ATTACH;FMTTYPE=image/jpeg:https://desarrolloarevalo.pixelinnova.com/wp-content/uploads/2026/03/exposicic3b3n-micolc3b3gica.jpg
END:VEVENT
BEGIN:VEVENT
DTSTART;TZID=Europe/Madrid:20241116T210000
DTEND;TZID=Europe/Madrid:20241116T230000
DTSTAMP:20260426T043733
CREATED:20241002T143556Z
LAST-MODIFIED:20241002T143556Z
UID:27552-1731790800-1731798000@desarrolloarevalo.pixelinnova.com
SUMMARY:XII Muestra de teatro 2024
DESCRIPTION:Obra: «Luces y Sombras»\nGrupo: Titania
URL:https://desarrolloarevalo.pixelinnova.com/evento/xii-muestra-de-teatro-2024-5-2/
CATEGORIES:Teatro
ATTACH;FMTTYPE=image/png:https://desarrolloarevalo.pixelinnova.com/wp-content/uploads/2026/03/luces-y-sombras1.png
END:VEVENT
BEGIN:VEVENT
DTSTART;TZID=Europe/Madrid:20241117T193000
DTEND;TZID=Europe/Madrid:20241117T213000
DTSTAMP:20260426T043733
CREATED:20241111T105638Z
LAST-MODIFIED:20241111T105638Z
UID:27588-1731871800-1731879000@desarrolloarevalo.pixelinnova.com
SUMMARY:Me quiere\, no me hiere
DESCRIPTION:Me Quiere\, No me hiere\n\nAntonio Guerrero y Arantxa Catalá\nRepresentación a cargo de Terral Teatro. \nEdad recomendada a partir de 12 años.
URL:https://desarrolloarevalo.pixelinnova.com/evento/me-quiere-no-me-hiere-2/
CATEGORIES:Teatro
ATTACH;FMTTYPE=image/jpeg:https://desarrolloarevalo.pixelinnova.com/wp-content/uploads/2026/03/CARTEL-2.jpg
END:VEVENT
BEGIN:VEVENT
DTSTART;VALUE=DATE:20241122
DTEND;VALUE=DATE:20241202
DTSTAMP:20260426T043733
CREATED:20241106T105015Z
LAST-MODIFIED:20241106T105015Z
UID:27586-1732233600-1733097599@desarrolloarevalo.pixelinnova.com
SUMMARY:Exposición de pintura taurina obra Irene Blázquez
DESCRIPTION:Exposición de pintura taurina\n\nPasión y tradición taurina 
URL:https://desarrolloarevalo.pixelinnova.com/evento/exposicion-de-pintura-taurina-obra-irene-blazquez-2/
CATEGORIES:Exposición
ATTACH;FMTTYPE=image/jpeg:https://desarrolloarevalo.pixelinnova.com/wp-content/uploads/2026/03/FB_IMG_1730844648599.jpg
END:VEVENT
BEGIN:VEVENT
DTSTART;TZID=Europe/Madrid:20241122T193000
DTEND;TZID=Europe/Madrid:20241122T203000
DTSTAMP:20260426T043733
CREATED:20241106T101920Z
LAST-MODIFIED:20241106T101920Z
UID:27582-1732303800-1732307400@desarrolloarevalo.pixelinnova.com
SUMMARY:XXVI Jornadas taurinas de Arévalo
DESCRIPTION:Inauguración de exposición de pintura taurina\n\nObra de la artista Irene Blázquez
URL:https://desarrolloarevalo.pixelinnova.com/evento/xxvi-jornadas-taurinas-de-arevalo-5/
CATEGORIES:Exposición
ATTACH;FMTTYPE=image/jpeg:https://desarrolloarevalo.pixelinnova.com/wp-content/uploads/2026/03/FB_IMG_1731015679497.jpg
END:VEVENT
BEGIN:VEVENT
DTSTART;TZID=Europe/Madrid:20241122T200000
DTEND;TZID=Europe/Madrid:20241122T210000
DTSTAMP:20260426T043733
CREATED:20241106T102651Z
LAST-MODIFIED:20241106T102651Z
UID:27583-1732305600-1732309200@desarrolloarevalo.pixelinnova.com
SUMMARY:XXVI Jornadas taurinas de Arévalo
DESCRIPTION:Actuación flamenca\n\nAl cante Arturo Llorente y a la guitarra Adrián Berlinas\n\nA continuación\, mesa coloquio: Tema: «Salamanca Imprescindible en la tauromaquia española» \nintervienen: \n\nIsmael Martín: Matador de toros\nElías Martin Senovilla: Banderillero\nAlberto Sandoval: Picador\nJose Enrique Fraile Del Valdefresno: Ganadero\n\nPresenta y modera: Domingo Delgado De La Cámara\, Abogado y crítico taurino.
URL:https://desarrolloarevalo.pixelinnova.com/evento/xxvi-jornadas-taurinas-de-arevalo-2-2/
CATEGORIES:Cultura
ATTACH;FMTTYPE=image/jpeg:https://desarrolloarevalo.pixelinnova.com/wp-content/uploads/2026/03/FB_IMG_1731015679497.jpg
END:VEVENT
BEGIN:VEVENT
DTSTART;TZID=Europe/Madrid:20241123T200000
DTEND;TZID=Europe/Madrid:20241123T220000
DTSTAMP:20260426T043733
CREATED:20241118T155400Z
LAST-MODIFIED:20241118T155400Z
UID:27598-1732392000-1732399200@desarrolloarevalo.pixelinnova.com
SUMMARY:Concierto de la banda municipal de Arévalo
DESCRIPTION:Festividad de Santa Cecilia
URL:https://desarrolloarevalo.pixelinnova.com/evento/concierto-de-la-banda-municipal-de-arevalo-2/
CATEGORIES:Conciertos
ATTACH;FMTTYPE=image/png:https://desarrolloarevalo.pixelinnova.com/wp-content/uploads/2026/03/Concierto-Santa-Cecilia.png
END:VEVENT
BEGIN:VEVENT
DTSTART;TZID=Europe/Madrid:20241124T193000
DTEND;TZID=Europe/Madrid:20241124T193000
DTSTAMP:20260426T043733
CREATED:20241112T181211Z
LAST-MODIFIED:20241112T181211Z
UID:27596-1732476600-1732476600@desarrolloarevalo.pixelinnova.com
SUMMARY:Cantares de Entretelas
DESCRIPTION:Entrada libre hasta completar aforo.\nEdad recomendada a partir de 12 años.
URL:https://desarrolloarevalo.pixelinnova.com/evento/cantares-de-entretelas-2-2/
CATEGORIES:Actividades
ATTACH;FMTTYPE=image/png:https://desarrolloarevalo.pixelinnova.com/wp-content/uploads/2026/03/Cantares-de-Entretelas.png
END:VEVENT
BEGIN:VEVENT
DTSTART;TZID=Europe/Madrid:20241124T193000
DTEND;TZID=Europe/Madrid:20241124T213000
DTSTAMP:20260426T043733
CREATED:20241111T112953Z
LAST-MODIFIED:20241111T112953Z
UID:27590-1732476600-1732483800@desarrolloarevalo.pixelinnova.com
SUMMARY:Cantares de Entretelas
DESCRIPTION:Cantares de entretelas\n\nA cargo de la Asociación Cultural Korai (Grupo escénico-musical)\nEntrada libre hasta completar aforo.\nEdad recomendada 12 años.
URL:https://desarrolloarevalo.pixelinnova.com/evento/dia-internacional-contra-la-violencia-de-genero-2024-2-2/
CATEGORIES:Teatro
ATTACH;FMTTYPE=image/jpeg:https://desarrolloarevalo.pixelinnova.com/wp-content/uploads/2026/03/cantares-entretelas-Korai.jpg
END:VEVENT
BEGIN:VEVENT
DTSTART;TZID=Europe/Madrid:20241125T120000
DTEND;TZID=Europe/Madrid:20241125T140000
DTSTAMP:20260426T043733
CREATED:20241111T113114Z
LAST-MODIFIED:20241111T113114Z
UID:27591-1732536000-1732543200@desarrolloarevalo.pixelinnova.com
SUMMARY:Manifiesto y minuto de silencio
DESCRIPTION:Manifiesto y Minuto de silencio\nComo acto de rechazo y condena de la violencia de género.  \nA continuación: \n\nLectura de micro-relato por la arevalense Irene Delgado García.\nColaboración de la policía local de Arévalo con la lectura de estadísticas sobre la violencia de género.\niniciativa de colgado de mariposas\, con mensajes\, relatos y testimonios de nuestro entorno\, como símbolo de apoyo y para visibilizar la importancia de esta lucha.\n\n 
URL:https://desarrolloarevalo.pixelinnova.com/evento/cantares-de-entretelas-3/
CATEGORIES:Actividades
ATTACH;FMTTYPE=image/jpeg:https://desarrolloarevalo.pixelinnova.com/wp-content/uploads/2026/03/af03392b945eedca51afada72c3bc9c4_L.jpg
END:VEVENT
BEGIN:VEVENT
DTSTART;TZID=Europe/Madrid:20241125T163000
DTEND;TZID=Europe/Madrid:20241125T203000
DTSTAMP:20260426T043733
CREATED:20241119T152553Z
LAST-MODIFIED:20241119T152553Z
UID:27600-1732552200-1732566600@desarrolloarevalo.pixelinnova.com
SUMMARY:Campaña de donación de sangre
DESCRIPTION:
URL:https://desarrolloarevalo.pixelinnova.com/evento/campana-de-donacion-de-sangre-4-2/
CATEGORIES:Actividades
ATTACH;FMTTYPE=image/png:https://desarrolloarevalo.pixelinnova.com/wp-content/uploads/2026/03/Arevalo-25112024.png
END:VEVENT
BEGIN:VEVENT
DTSTART;TZID=Europe/Madrid:20241126T200000
DTEND;TZID=Europe/Madrid:20241126T220000
DTSTAMP:20260426T043733
CREATED:20241119T151941Z
LAST-MODIFIED:20241119T151941Z
UID:27599-1732651200-1732658400@desarrolloarevalo.pixelinnova.com
SUMMARY:Concierto alumnos y profesoras Santa Cecilia
DESCRIPTION:
URL:https://desarrolloarevalo.pixelinnova.com/evento/concierto-alumnos-y-profesoras-santa-cecilia-2/
CATEGORIES:Conciertos
ATTACH;FMTTYPE=image/png:https://desarrolloarevalo.pixelinnova.com/wp-content/uploads/2026/03/Concierto-alumnos-y-profesores-Santa-Cecilia.png
END:VEVENT
END:VCALENDAR