BEGIN:VCALENDAR
VERSION:2.0
PRODID:-//Ayuntamiento de Arévalo - ECPv6.15.18//NONSGML v1.0//EN
CALSCALE:GREGORIAN
METHOD:PUBLISH
X-ORIGINAL-URL:https://desarrolloarevalo.pixelinnova.com
X-WR-CALDESC:Eventos para Ayuntamiento de Arévalo
REFRESH-INTERVAL;VALUE=DURATION:PT1H
X-Robots-Tag:noindex
X-PUBLISHED-TTL:PT1H
BEGIN:VTIMEZONE
TZID:Europe/Madrid
BEGIN:DAYLIGHT
TZOFFSETFROM:+0100
TZOFFSETTO:+0200
TZNAME:CEST
DTSTART:20240331T010000
END:DAYLIGHT
BEGIN:STANDARD
TZOFFSETFROM:+0200
TZOFFSETTO:+0100
TZNAME:CET
DTSTART:20241027T010000
END:STANDARD
BEGIN:DAYLIGHT
TZOFFSETFROM:+0100
TZOFFSETTO:+0200
TZNAME:CEST
DTSTART:20250330T010000
END:DAYLIGHT
BEGIN:STANDARD
TZOFFSETFROM:+0200
TZOFFSETTO:+0100
TZNAME:CET
DTSTART:20251026T010000
END:STANDARD
BEGIN:DAYLIGHT
TZOFFSETFROM:+0100
TZOFFSETTO:+0200
TZNAME:CEST
DTSTART:20260329T010000
END:DAYLIGHT
BEGIN:STANDARD
TZOFFSETFROM:+0200
TZOFFSETTO:+0100
TZNAME:CET
DTSTART:20261025T010000
END:STANDARD
END:VTIMEZONE
BEGIN:VEVENT
DTSTART;TZID=Europe/Madrid:20250301T110000
DTEND;TZID=Europe/Madrid:20250301T120000
DTSTAMP:20260424T033723
CREATED:20250226T163014Z
LAST-MODIFIED:20250226T163014Z
UID:27734-1740826800-1740830400@desarrolloarevalo.pixelinnova.com
SUMMARY:Día Internacional de Protección Civil
DESCRIPTION:Inauguración de la escultura en Honor a Protección Civil \n 
URL:https://desarrolloarevalo.pixelinnova.com/evento/dia-internacional-de-proteccion-civil-4/
CATEGORIES:Actividades
ATTACH;FMTTYPE=image/jpeg:https://desarrolloarevalo.pixelinnova.com/wp-content/uploads/2026/03/IMG-20250226-WA0025.jpg
END:VEVENT
BEGIN:VEVENT
DTSTART;TZID=Europe/Madrid:20250301T120000
DTEND;TZID=Europe/Madrid:20250301T140000
DTSTAMP:20260424T033723
CREATED:20250226T163304Z
LAST-MODIFIED:20250226T163304Z
UID:27735-1740830400-1740837600@desarrolloarevalo.pixelinnova.com
SUMMARY:Día Internacional de Protección Civil
DESCRIPTION:Simulacro/Yincana de Evacuación en caso de incendio (para niños/as desde 5 años)
URL:https://desarrolloarevalo.pixelinnova.com/evento/dia-internacional-de-proteccion-civil-2-2/
CATEGORIES:Actividades
ATTACH;FMTTYPE=image/jpeg:https://desarrolloarevalo.pixelinnova.com/wp-content/uploads/2026/03/IMG-20250226-WA0025.jpg
END:VEVENT
BEGIN:VEVENT
DTSTART;TZID=Europe/Madrid:20250301T173000
DTEND;TZID=Europe/Madrid:20250301T203000
DTSTAMP:20260424T033723
CREATED:20250226T163609Z
LAST-MODIFIED:20250226T163609Z
UID:27736-1740850200-1740861000@desarrolloarevalo.pixelinnova.com
SUMMARY:Día Internacional de Protección Civil
DESCRIPTION:Charlas de Primeros Auxilios para la ciudadanía\, presentación de libros infantiles y clausura de la jornada y vino español
URL:https://desarrolloarevalo.pixelinnova.com/evento/dia-internacional-de-proteccion-civil-3-2/
CATEGORIES:Actividades
ATTACH;FMTTYPE=image/jpeg:https://desarrolloarevalo.pixelinnova.com/wp-content/uploads/2026/03/IMG-20250226-WA0025.jpg
END:VEVENT
BEGIN:VEVENT
DTSTART;TZID=Europe/Madrid:20250301T200000
DTEND;TZID=Europe/Madrid:20250301T220000
DTSTAMP:20260424T033723
CREATED:20250120T084414Z
LAST-MODIFIED:20250120T084414Z
UID:27712-1740859200-1740866400@desarrolloarevalo.pixelinnova.com
SUMMARY:Ocio Juvenil de 9 a 14 años
DESCRIPTION:
URL:https://desarrolloarevalo.pixelinnova.com/evento/ocio-juvenil-de-9-a-14-anos-6-2/
CATEGORIES:Actividades
ATTACH;FMTTYPE=image/jpeg:https://desarrolloarevalo.pixelinnova.com/wp-content/uploads/2026/03/2025_Ocio_Juvenil.jpg
END:VEVENT
BEGIN:VEVENT
DTSTART;TZID=Europe/Madrid:20250302T120000
DTEND;TZID=Europe/Madrid:20250302T140000
DTSTAMP:20260424T033723
CREATED:20250217T084735Z
LAST-MODIFIED:20250217T084735Z
UID:27726-1740916800-1740924000@desarrolloarevalo.pixelinnova.com
SUMMARY:DESFILE Y CONCURSO DE CARNAVAL 2025
DESCRIPTION:En la Avenida Emilio Romero\, desde el Parque Vellando hasta la Calle Isabel de Portugal (Zona de los Muleteros) Al finalizar se hará entrega de premios en la Plaza del Arrabal
URL:https://desarrolloarevalo.pixelinnova.com/evento/desfile-y-concurso-de-carnaval-2025-2/
CATEGORIES:Actividades
ATTACH;FMTTYPE=image/jpeg:https://desarrolloarevalo.pixelinnova.com/wp-content/uploads/2026/03/Carnaval-2025-Actividades-Arevalo-1.jpg
END:VEVENT
BEGIN:VEVENT
DTSTART;VALUE=DATE:20250303
DTEND;VALUE=DATE:20250322
DTSTAMP:20260424T033723
CREATED:20250303T074410Z
LAST-MODIFIED:20250303T074410Z
UID:27741-1740960000-1742601599@desarrolloarevalo.pixelinnova.com
SUMMARY:II Concurso Infantil y Juvenil de Marcapáginas de Arévalo
DESCRIPTION:De 5 a 17 años (2 categorías: Infantil y Juvenil) \nPlazo para presentar tu Marcapáginas 21 de marzo
URL:https://desarrolloarevalo.pixelinnova.com/evento/ii-concurso-infantil-y-juvenil-de-marcapaginas-de-arevalo-2/
CATEGORIES:Actividades
ATTACH;FMTTYPE=image/png:https://desarrolloarevalo.pixelinnova.com/wp-content/uploads/2026/03/Copia-de-CONCURSO-DE-MARCA-PAGINAS.png
END:VEVENT
BEGIN:VEVENT
DTSTART;VALUE=DATE:20250303
DTEND;VALUE=DATE:20250329
DTSTAMP:20260424T033723
CREATED:20250303T074940Z
LAST-MODIFIED:20250303T074940Z
UID:27742-1740960000-1743206399@desarrolloarevalo.pixelinnova.com
SUMMARY:I Concurso de Carteles del Día del Libro Infantil y Juvenil
DESCRIPTION:Plazo para presentar tu cartel: 28 de marzo \nDe 8 a 16 años (2 categorías: Infantil y Juvenil)
URL:https://desarrolloarevalo.pixelinnova.com/evento/i-concurso-de-carteles-del-dia-del-libro-infantil-y-juvenil-2/
CATEGORIES:Actividades
ATTACH;FMTTYPE=image/png:https://desarrolloarevalo.pixelinnova.com/wp-content/uploads/2026/03/Copia-de-Copia-de-CONCURSO-DE-MARCA-PAGINAS.png
END:VEVENT
BEGIN:VEVENT
DTSTART;TZID=Europe/Madrid:20250303T170000
DTEND;TZID=Europe/Madrid:20250303T190000
DTSTAMP:20260424T033723
CREATED:20250217T085248Z
LAST-MODIFIED:20250217T085248Z
UID:27728-1741021200-1741028400@desarrolloarevalo.pixelinnova.com
SUMMARY:Carnival Party
DESCRIPTION:Aforo limitado para niños y niñas de 3 años a 12 años por orden de llegada
URL:https://desarrolloarevalo.pixelinnova.com/evento/carnival-party-2-2/
CATEGORIES:Actividades
ATTACH;FMTTYPE=image/jpeg:https://desarrolloarevalo.pixelinnova.com/wp-content/uploads/2026/03/IMG_1740583497562.jpg
END:VEVENT
BEGIN:VEVENT
DTSTART;VALUE=DATE:20250304
DTEND;VALUE=DATE:20250908
DTSTAMP:20260424T033723
CREATED:20250305T153433Z
LAST-MODIFIED:20250305T153433Z
UID:27747-1741046400-1757289599@desarrolloarevalo.pixelinnova.com
SUMMARY:Exposición “Cuántos Ángeles caben en la punta de un alfiler”
DESCRIPTION:De jueves a domingo de 11:00 – 14:00 y de 17:00 – 19:45 \n 
URL:https://desarrolloarevalo.pixelinnova.com/evento/exposicion-cuantos-angeles-caben-en-la-punta-de-un-alfiler-2/
CATEGORIES:Actividades,Cultura,Exposición
ATTACH;FMTTYPE=image/jpeg:https://desarrolloarevalo.pixelinnova.com/wp-content/uploads/2026/03/expo-collegium.jpg
END:VEVENT
BEGIN:VEVENT
DTSTART;TZID=Europe/Madrid:20250304T110000
DTEND;TZID=Europe/Madrid:20250304T130000
DTSTAMP:20260424T033723
CREATED:20250226T162313Z
LAST-MODIFIED:20250226T162313Z
UID:27733-1741086000-1741093200@desarrolloarevalo.pixelinnova.com
SUMMARY:Construye con nosotros una Caja Nido
DESCRIPTION:Taller familiar
URL:https://desarrolloarevalo.pixelinnova.com/evento/construye-con-nosotros-una-caja-nido-2/
CATEGORIES:Actividades
ATTACH;FMTTYPE=image/jpeg:https://desarrolloarevalo.pixelinnova.com/wp-content/uploads/2026/03/PHOTO-2025-03-03-10-47-12.jpg
END:VEVENT
BEGIN:VEVENT
DTSTART;TZID=Europe/Madrid:20250305T200000
DTEND;TZID=Europe/Madrid:20250305T220000
DTSTAMP:20260424T033723
CREATED:20250217T085657Z
LAST-MODIFIED:20250217T085657Z
UID:27729-1741204800-1741212000@desarrolloarevalo.pixelinnova.com
SUMMARY:VIII Entierro de la Sardina
DESCRIPTION:Desde el Polideportivo Municipal hasta La Plaza del Arrabal
URL:https://desarrolloarevalo.pixelinnova.com/evento/entierro-de-la-sardina-2-2/
CATEGORIES:Actividades
ATTACH;FMTTYPE=image/jpeg:https://desarrolloarevalo.pixelinnova.com/wp-content/uploads/2026/03/IMG_1740583502134.jpg
END:VEVENT
BEGIN:VEVENT
DTSTART;TZID=Europe/Madrid:20250307T120000
DTEND;TZID=Europe/Madrid:20250307T130000
DTSTAMP:20260424T033723
CREATED:20250306T150635Z
LAST-MODIFIED:20250306T150635Z
UID:27750-1741348800-1741352400@desarrolloarevalo.pixelinnova.com
SUMMARY:Lectura del manifiesto con motivo del Día Internacional de la Mujer
DESCRIPTION:
URL:https://desarrolloarevalo.pixelinnova.com/evento/lectura-del-manifiesto-con-motivo-del-dia-internacional-de-las-mujeres-2/
CATEGORIES:Actividades
ATTACH;FMTTYPE=image/jpeg:https://desarrolloarevalo.pixelinnova.com/wp-content/uploads/2026/03/8M-1.jpg
END:VEVENT
BEGIN:VEVENT
DTSTART;TZID=Europe/Madrid:20250307T193000
DTEND;TZID=Europe/Madrid:20250307T213000
DTSTAMP:20260424T033723
CREATED:20250227T114416Z
LAST-MODIFIED:20250227T114416Z
UID:27739-1741375800-1741383000@desarrolloarevalo.pixelinnova.com
SUMMARY:Conferencia "Isabel mujer ejemplar de su tiempo"
DESCRIPTION:
URL:https://desarrolloarevalo.pixelinnova.com/evento/conferencia-isabel-mujer-ejemplar-de-su-tiempo-2/
CATEGORIES:Actividades,Cultura
END:VEVENT
BEGIN:VEVENT
DTSTART;VALUE=DATE:20250308
DTEND;VALUE=DATE:20250317
DTSTAMP:20260424T033724
CREATED:20250220T081727Z
LAST-MODIFIED:20250220T081727Z
UID:27730-1741392000-1742169599@desarrolloarevalo.pixelinnova.com
SUMMARY:XV Jornadas Gastronómicas Tostón de Arévalo
DESCRIPTION:Del 8 al 16 de marzo de 2025
URL:https://desarrolloarevalo.pixelinnova.com/evento/xv-jornadas-gastronomicas-toston-de-arevalo-2/
CATEGORIES:Actividades
ATTACH;FMTTYPE=image/jpeg:https://desarrolloarevalo.pixelinnova.com/wp-content/uploads/2026/03/XV-Jornadas-Gastronomicas-Toston-de-Arevalo-.jpg
END:VEVENT
BEGIN:VEVENT
DTSTART;TZID=Europe/Madrid:20250308T200000
DTEND;TZID=Europe/Madrid:20250308T220000
DTSTAMP:20260424T033724
CREATED:20250120T084530Z
LAST-MODIFIED:20250120T084530Z
UID:27713-1741464000-1741471200@desarrolloarevalo.pixelinnova.com
SUMMARY:Ocio Juvenil de 9 a 14 años
DESCRIPTION:
URL:https://desarrolloarevalo.pixelinnova.com/evento/ocio-juvenil-de-9-a-14-anos-7-2/
CATEGORIES:Actividades
ATTACH;FMTTYPE=image/jpeg:https://desarrolloarevalo.pixelinnova.com/wp-content/uploads/2026/03/2025_Ocio_Juvenil.jpg
END:VEVENT
BEGIN:VEVENT
DTSTART;TZID=Europe/Madrid:20250310T120000
DTEND;TZID=Europe/Madrid:20250310T183000
DTSTAMP:20260424T033724
CREATED:20250211T124308Z
LAST-MODIFIED:20250211T124308Z
UID:27725-1741608000-1741631400@desarrolloarevalo.pixelinnova.com
SUMMARY:Taller de Belenismo
DESCRIPTION:Impartido por José Manuel Fúster Piriz \nHorario: Lunes y Miércoles de 12h a 13:30h\, Martes y Jueves de 17h a 18:30h \nHasta finalizar los trabajos realizados \n 
URL:https://desarrolloarevalo.pixelinnova.com/evento/taller-de-belenismo-2/
CATEGORIES:Actividades
ATTACH;FMTTYPE=image/jpeg:https://desarrolloarevalo.pixelinnova.com/wp-content/uploads/2026/03/taller-Belenisimo.jpg
END:VEVENT
BEGIN:VEVENT
DTSTART;VALUE=DATE:20250311
DTEND;VALUE=DATE:20250701
DTSTAMP:20260424T033724
CREATED:20250314T151423Z
LAST-MODIFIED:20250314T151423Z
UID:27752-1741651200-1751327999@desarrolloarevalo.pixelinnova.com
SUMMARY:Sin Biodiversidad no hay Vida
DESCRIPTION:Exposición de paneles Didácticos del 11 de marzo al 30 de junio de 2025 martes a domingo (mañana y tarde)
URL:https://desarrolloarevalo.pixelinnova.com/evento/sin-biodiversidad-no-hay-vida-2/
CATEGORIES:Exposición
ATTACH;FMTTYPE=image/jpeg:https://desarrolloarevalo.pixelinnova.com/wp-content/uploads/2026/03/biodiversidad.jpg
END:VEVENT
BEGIN:VEVENT
DTSTART;TZID=Europe/Madrid:20250315T110000
DTEND;TZID=Europe/Madrid:20250315T133000
DTSTAMP:20260424T033724
CREATED:20250306T151117Z
LAST-MODIFIED:20250306T151117Z
UID:27751-1742036400-1742045400@desarrolloarevalo.pixelinnova.com
SUMMARY:Taller gratuito de danza “El despertar de las diosas”
DESCRIPTION:
URL:https://desarrolloarevalo.pixelinnova.com/evento/taller-gratuito-de-danza-el-despertar-de-las-diosas-2/
CATEGORIES:Actividades
ATTACH;FMTTYPE=image/jpeg:https://desarrolloarevalo.pixelinnova.com/wp-content/uploads/2026/03/diosas-8m.jpg
END:VEVENT
BEGIN:VEVENT
DTSTART;TZID=Europe/Madrid:20250315T193000
DTEND;TZID=Europe/Madrid:20250315T213000
DTSTAMP:20260424T033724
CREATED:20250227T075356Z
LAST-MODIFIED:20250227T075356Z
UID:27737-1742067000-1742074200@desarrolloarevalo.pixelinnova.com
SUMMARY:8º FESTIVAL SOLIDARIO
DESCRIPTION:
URL:https://desarrolloarevalo.pixelinnova.com/evento/8o-festival-solidario-3/
CATEGORIES:Actividades,Cultura
ATTACH;FMTTYPE=image/jpeg:https://desarrolloarevalo.pixelinnova.com/wp-content/uploads/2026/03/25-02-26_20-00-54-064.jpg
END:VEVENT
BEGIN:VEVENT
DTSTART;TZID=Europe/Madrid:20250315T200000
DTEND;TZID=Europe/Madrid:20250315T220000
DTSTAMP:20260424T033724
CREATED:20250120T084559Z
LAST-MODIFIED:20250120T084559Z
UID:27714-1742068800-1742076000@desarrolloarevalo.pixelinnova.com
SUMMARY:Ocio Juvenil de 9 a 14 años
DESCRIPTION:
URL:https://desarrolloarevalo.pixelinnova.com/evento/ocio-juvenil-de-9-a-14-anos-8-2/
CATEGORIES:Actividades
ATTACH;FMTTYPE=image/jpeg:https://desarrolloarevalo.pixelinnova.com/wp-content/uploads/2026/03/2025_Ocio_Juvenil.jpg
END:VEVENT
BEGIN:VEVENT
DTSTART;TZID=Europe/Madrid:20250316T173000
DTEND;TZID=Europe/Madrid:20250316T193000
DTSTAMP:20260424T033724
CREATED:20250227T075453Z
LAST-MODIFIED:20250227T075453Z
UID:27738-1742146200-1742153400@desarrolloarevalo.pixelinnova.com
SUMMARY:8º FESTIVAL SOLIDARIO
DESCRIPTION:
URL:https://desarrolloarevalo.pixelinnova.com/evento/8o-festival-solidario-2-2/
CATEGORIES:Actividades,Cultura
ATTACH;FMTTYPE=image/jpeg:https://desarrolloarevalo.pixelinnova.com/wp-content/uploads/2026/03/25-02-26_20-00-54-064.jpg
END:VEVENT
BEGIN:VEVENT
DTSTART;TZID=Europe/Madrid:20250322T180000
DTEND;TZID=Europe/Madrid:20250322T200000
DTSTAMP:20260424T033724
CREATED:20250304T125347Z
LAST-MODIFIED:20250304T125347Z
UID:27743-1742666400-1742673600@desarrolloarevalo.pixelinnova.com
SUMMARY:No Controles
DESCRIPTION:El Musical de los 80’S y 90’sS
URL:https://desarrolloarevalo.pixelinnova.com/evento/no-controles-2/
CATEGORIES:Actividades,Teatro
ATTACH;FMTTYPE=image/jpeg:https://desarrolloarevalo.pixelinnova.com/wp-content/uploads/2026/03/no-controles.jpg
END:VEVENT
BEGIN:VEVENT
DTSTART;TZID=Europe/Madrid:20250322T200000
DTEND;TZID=Europe/Madrid:20250322T220000
DTSTAMP:20260424T033724
CREATED:20250120T085354Z
LAST-MODIFIED:20250120T085354Z
UID:27716-1742673600-1742680800@desarrolloarevalo.pixelinnova.com
SUMMARY:Ocio Juvenil de 9 a 14 años
DESCRIPTION:
URL:https://desarrolloarevalo.pixelinnova.com/evento/ocio-juvenil-de-9-a-14-anos-10-2/
CATEGORIES:Actividades
ATTACH;FMTTYPE=image/jpeg:https://desarrolloarevalo.pixelinnova.com/wp-content/uploads/2026/03/2025_Ocio_Juvenil.jpg
END:VEVENT
BEGIN:VEVENT
DTSTART;TZID=Europe/Madrid:20250329T200000
DTEND;TZID=Europe/Madrid:20250329T220000
DTSTAMP:20260424T033724
CREATED:20250120T084639Z
LAST-MODIFIED:20250120T084639Z
UID:27715-1743278400-1743285600@desarrolloarevalo.pixelinnova.com
SUMMARY:Ocio Juvenil de 9 a 14 años
DESCRIPTION:
URL:https://desarrolloarevalo.pixelinnova.com/evento/ocio-juvenil-de-9-a-14-anos-9-2/
CATEGORIES:Actividades
ATTACH;FMTTYPE=image/jpeg:https://desarrolloarevalo.pixelinnova.com/wp-content/uploads/2026/03/2025_Ocio_Juvenil.jpg
END:VEVENT
BEGIN:VEVENT
DTSTART;TZID=Europe/Madrid:20250329T203000
DTEND;TZID=Europe/Madrid:20250329T223000
DTSTAMP:20260424T033724
CREATED:20250304T125823Z
LAST-MODIFIED:20250304T125823Z
UID:27744-1743280200-1743287400@desarrolloarevalo.pixelinnova.com
SUMMARY:Don Francisco de Quevedo
DESCRIPTION:
URL:https://desarrolloarevalo.pixelinnova.com/evento/don-francisco-de-quevedo-2/
CATEGORIES:Teatro
ATTACH;FMTTYPE=image/jpeg:https://desarrolloarevalo.pixelinnova.com/wp-content/uploads/2026/03/francisco-quevedo-teatro.jpg
END:VEVENT
BEGIN:VEVENT
DTSTART;TZID=Europe/Madrid:20250330T093000
DTEND;TZID=Europe/Madrid:20250330T173000
DTSTAMP:20260424T033724
CREATED:20250317T104657Z
LAST-MODIFIED:20250317T104657Z
UID:27753-1743327000-1743355800@desarrolloarevalo.pixelinnova.com
SUMMARY:V Ciclomarcha Tierra de Arévalo MTB
DESCRIPTION:
URL:https://desarrolloarevalo.pixelinnova.com/evento/v-ciclomarcha-tierra-de-arevalo-mtb-2/
CATEGORIES:Actividades
ATTACH;FMTTYPE=image/jpeg:https://desarrolloarevalo.pixelinnova.com/wp-content/uploads/2026/03/Cartel-CICLOMARCHA-MTB-scaled-1.jpeg
END:VEVENT
BEGIN:VEVENT
DTSTART;TZID=Europe/Madrid:20250331T163000
DTEND;TZID=Europe/Madrid:20250331T203000
DTSTAMP:20260424T033724
CREATED:20250321T074231Z
LAST-MODIFIED:20250321T074231Z
UID:27754-1743438600-1743453000@desarrolloarevalo.pixelinnova.com
SUMMARY:Campaña de Donación de Sangre (31 de Marzo)
DESCRIPTION:No olvide llevar el DNI
URL:https://desarrolloarevalo.pixelinnova.com/evento/campana-de-donacion-de-sangre-31-de-marzo-2/
CATEGORIES:Actividades
ATTACH;FMTTYPE=image/png:https://desarrolloarevalo.pixelinnova.com/wp-content/uploads/2026/03/AREVALO-31032025.png
END:VEVENT
END:VCALENDAR