BEGIN:VCALENDAR
VERSION:2.0
PRODID:-//Ayuntamiento de Arévalo - ECPv6.15.18//NONSGML v1.0//EN
CALSCALE:GREGORIAN
METHOD:PUBLISH
X-ORIGINAL-URL:https://desarrolloarevalo.pixelinnova.com
X-WR-CALDESC:Eventos para Ayuntamiento de Arévalo
REFRESH-INTERVAL;VALUE=DURATION:PT1H
X-Robots-Tag:noindex
X-PUBLISHED-TTL:PT1H
BEGIN:VTIMEZONE
TZID:Europe/Madrid
BEGIN:DAYLIGHT
TZOFFSETFROM:+0100
TZOFFSETTO:+0200
TZNAME:CEST
DTSTART:20240331T010000
END:DAYLIGHT
BEGIN:STANDARD
TZOFFSETFROM:+0200
TZOFFSETTO:+0100
TZNAME:CET
DTSTART:20241027T010000
END:STANDARD
BEGIN:DAYLIGHT
TZOFFSETFROM:+0100
TZOFFSETTO:+0200
TZNAME:CEST
DTSTART:20250330T010000
END:DAYLIGHT
BEGIN:STANDARD
TZOFFSETFROM:+0200
TZOFFSETTO:+0100
TZNAME:CET
DTSTART:20251026T010000
END:STANDARD
BEGIN:DAYLIGHT
TZOFFSETFROM:+0100
TZOFFSETTO:+0200
TZNAME:CEST
DTSTART:20260329T010000
END:DAYLIGHT
BEGIN:STANDARD
TZOFFSETFROM:+0200
TZOFFSETTO:+0100
TZNAME:CET
DTSTART:20261025T010000
END:STANDARD
END:VTIMEZONE
BEGIN:VEVENT
DTSTART;VALUE=DATE:20250304
DTEND;VALUE=DATE:20250908
DTSTAMP:20260420T213549
CREATED:20250305T153433Z
LAST-MODIFIED:20250305T153433Z
UID:27747-1741046400-1757289599@desarrolloarevalo.pixelinnova.com
SUMMARY:Exposición “Cuántos Ángeles caben en la punta de un alfiler”
DESCRIPTION:De jueves a domingo de 11:00 – 14:00 y de 17:00 – 19:45 \n 
URL:https://desarrolloarevalo.pixelinnova.com/evento/exposicion-cuantos-angeles-caben-en-la-punta-de-un-alfiler-2/
CATEGORIES:Actividades,Cultura,Exposición
ATTACH;FMTTYPE=image/jpeg:https://desarrolloarevalo.pixelinnova.com/wp-content/uploads/2026/03/expo-collegium.jpg
END:VEVENT
BEGIN:VEVENT
DTSTART;TZID=Europe/Madrid:20250704T210000
DTEND;TZID=Europe/Madrid:20250704T223000
DTSTAMP:20260420T213549
CREATED:20250624T080016Z
LAST-MODIFIED:20250624T080016Z
UID:27832-1751662800-1751668200@desarrolloarevalo.pixelinnova.com
SUMMARY:Concentración de Peñas y Pasacalles hasta el Pregón
DESCRIPTION:Amenizado por la Charanga “El Meneito”
URL:https://desarrolloarevalo.pixelinnova.com/evento/concentracion-de-penas-y-pasacalles-hasta-el-pregon-2/
CATEGORIES:Actividades
ATTACH;FMTTYPE=image/png:https://desarrolloarevalo.pixelinnova.com/wp-content/uploads/2026/03/Escudo.png
END:VEVENT
BEGIN:VEVENT
DTSTART;TZID=Europe/Madrid:20250704T223000
DTEND;TZID=Europe/Madrid:20250704T233000
DTSTAMP:20260420T213549
CREATED:20250624T080026Z
LAST-MODIFIED:20250624T080026Z
UID:27833-1751668200-1751671800@desarrolloarevalo.pixelinnova.com
SUMMARY:Pregón y Chupinazo de inicio de las Ferias y Fiestas de San Victorino 2025
DESCRIPTION:Pregoneros/as: Ainhoa Soto Hernández\, Alberto Bragado Díaz\, Javier Sanz García\, Jose María Martín Sánchez\, María Domingo Somoza\, María Paz Luquero Juanes\, Rosana Gómez González\, Sonsoles Bragado de Soto\, Wendy Dos Santos de Miguel. ASOCIACIÓN NUEVO AMANECER DE ARÉVALO. \n(Aviso importante: durante el desarrollo del mismo se utilizarán artificios de pirotecnia)
URL:https://desarrolloarevalo.pixelinnova.com/evento/pregon-y-chupinazo-de-inicio-de-las-ferias-y-fiestas-de-san-victorino-2025-2/
CATEGORIES:Actividades
ATTACH;FMTTYPE=image/png:https://desarrolloarevalo.pixelinnova.com/wp-content/uploads/2026/03/Escudo.png
END:VEVENT
BEGIN:VEVENT
DTSTART;TZID=Europe/Madrid:20250704T235900
DTEND;TZID=Europe/Madrid:20250705T020000
DTSTAMP:20260420T213549
CREATED:20250624T080052Z
LAST-MODIFIED:20250624T080052Z
UID:27834-1751673540-1751680800@desarrolloarevalo.pixelinnova.com
SUMMARY:Actuación del Grupo “La Misión”
DESCRIPTION:
URL:https://desarrolloarevalo.pixelinnova.com/evento/actuacion-del-grupo-la-mision-2/
CATEGORIES:Conciertos
ATTACH;FMTTYPE=image/png:https://desarrolloarevalo.pixelinnova.com/wp-content/uploads/2026/03/Escudo.png
END:VEVENT
BEGIN:VEVENT
DTSTART;TZID=Europe/Madrid:20250705T120000
DTEND;TZID=Europe/Madrid:20250705T140000
DTSTAMP:20260420T213549
CREATED:20250624T080023Z
LAST-MODIFIED:20250624T080023Z
UID:27835-1751716800-1751724000@desarrolloarevalo.pixelinnova.com
SUMMARY:Salida de Gigantes y Cabezudos
DESCRIPTION:Acompañados por las dulzainas y tamboriles de “Al Pan Pan”
URL:https://desarrolloarevalo.pixelinnova.com/evento/salida-de-gigantes-y-cabezudos-2/
CATEGORIES:Actividades
ATTACH;FMTTYPE=image/png:https://desarrolloarevalo.pixelinnova.com/wp-content/uploads/2026/03/Escudo.png
END:VEVENT
BEGIN:VEVENT
DTSTART;TZID=Europe/Madrid:20250705T193000
DTEND;TZID=Europe/Madrid:20250705T213000
DTSTAMP:20260420T213549
CREATED:20250624T080046Z
LAST-MODIFIED:20250624T080046Z
UID:27836-1751743800-1751751000@desarrolloarevalo.pixelinnova.com
SUMMARY:Excepcional Corrida de Toros
DESCRIPTION:Toros de la Ganadería El Parralejo \nPara los matadores: Daniel Luque\, Emilio de Justo y Marco Pérez \nLa corrida estará amenizada por la Banda Municipal de Música \nMás información en programa aparte
URL:https://desarrolloarevalo.pixelinnova.com/evento/excepcional-corrida-de-toros-2/
CATEGORIES:Actividades
ATTACH;FMTTYPE=image/jpeg:https://desarrolloarevalo.pixelinnova.com/wp-content/uploads/2026/03/Feria-taurina-2025-Arevalo.jpg
END:VEVENT
BEGIN:VEVENT
DTSTART;TZID=Europe/Madrid:20250705T220000
DTEND;TZID=Europe/Madrid:20250705T233000
DTSTAMP:20260420T213549
CREATED:20250624T080047Z
LAST-MODIFIED:20250624T080047Z
UID:27837-1751752800-1751758200@desarrolloarevalo.pixelinnova.com
SUMMARY:Ciclo de Teatro “Manda a tu Madre a Sevilla”
DESCRIPTION:Compañía Teatro Eslava\, obra de José de Lucio \n 
URL:https://desarrolloarevalo.pixelinnova.com/evento/ciclo-de-teatro-manda-a-tu-madre-a-sevilla-2/
CATEGORIES:Teatro
ATTACH;FMTTYPE=image/png:https://desarrolloarevalo.pixelinnova.com/wp-content/uploads/2026/03/Escudo.png
END:VEVENT
BEGIN:VEVENT
DTSTART;TZID=Europe/Madrid:20250705T235900
DTEND;TZID=Europe/Madrid:20250706T030000
DTSTAMP:20260420T213549
CREATED:20250624T080032Z
LAST-MODIFIED:20250624T080032Z
UID:27838-1751759940-1751770800@desarrolloarevalo.pixelinnova.com
SUMMARY:Orquesta “Panorama City”
DESCRIPTION:En el descanso y a la finalización\, Black Box mini escenario móvil “DJ Ismael Yuguero” \nSeguidamente\, desde la Plaza del Arrabal hasta la Plaza de Toros\, amenizará las calles de Arévalo la Charanga “El Meneito”
URL:https://desarrolloarevalo.pixelinnova.com/evento/orquesta-panorama-city-2/
CATEGORIES:Conciertos
ATTACH;FMTTYPE=image/png:https://desarrolloarevalo.pixelinnova.com/wp-content/uploads/2026/03/Escudo.png
END:VEVENT
BEGIN:VEVENT
DTSTART;TZID=Europe/Madrid:20250706T070000
DTEND;TZID=Europe/Madrid:20250706T080000
DTSTAMP:20260420T213549
CREATED:20250624T080036Z
LAST-MODIFIED:20250624T080036Z
UID:27839-1751785200-1751788800@desarrolloarevalo.pixelinnova.com
SUMMARY:Encierro de reses bravas
DESCRIPTION:Seguidamente en la Plaza de Toros capea popular con Tradicional Suelta del “Novillo del Alba Enguantado”
URL:https://desarrolloarevalo.pixelinnova.com/evento/encierro-de-reses-bravas-5-2/
CATEGORIES:Actividades
ATTACH;FMTTYPE=image/jpeg:https://desarrolloarevalo.pixelinnova.com/wp-content/uploads/2026/03/Encierros-2025.jpg
END:VEVENT
BEGIN:VEVENT
DTSTART;TZID=Europe/Madrid:20250706T080000
DTEND;TZID=Europe/Madrid:20250706T090000
DTSTAMP:20260420T213549
CREATED:20250624T080009Z
LAST-MODIFIED:20250624T080009Z
UID:27840-1751788800-1751792400@desarrolloarevalo.pixelinnova.com
SUMMARY:Degustación de Sopas de Ajo y Chocolate
DESCRIPTION:Con la colaboración de la Asociación Cultural “La Queda”
URL:https://desarrolloarevalo.pixelinnova.com/evento/degustacion-de-sopas-de-ajo-y-chocolate-3-2/
CATEGORIES:Actividades
ATTACH;FMTTYPE=image/png:https://desarrolloarevalo.pixelinnova.com/wp-content/uploads/2026/03/Escudo.png
END:VEVENT
BEGIN:VEVENT
DTSTART;TZID=Europe/Madrid:20250706T170000
DTEND;TZID=Europe/Madrid:20250706T190000
DTSTAMP:20260420T213549
CREATED:20250624T080057Z
LAST-MODIFIED:20250624T080057Z
UID:27841-1751821200-1751828400@desarrolloarevalo.pixelinnova.com
SUMMARY:Parque Infantil con Atracciones Hinchables y Fiesta de la Espuma
DESCRIPTION:
URL:https://desarrolloarevalo.pixelinnova.com/evento/parque-infantil-con-atracciones-hinchables-y-fiesta-de-la-espuma-3-2/
CATEGORIES:Actividades
ATTACH;FMTTYPE=image/png:https://desarrolloarevalo.pixelinnova.com/wp-content/uploads/2026/03/Escudo.png
END:VEVENT
BEGIN:VEVENT
DTSTART;TZID=Europe/Madrid:20250706T193000
DTEND;TZID=Europe/Madrid:20250706T213000
DTSTAMP:20260420T213549
CREATED:20250624T080016Z
LAST-MODIFIED:20250624T080016Z
UID:27842-1751830200-1751837400@desarrolloarevalo.pixelinnova.com
SUMMARY:XXVIII Concurso de Cortes y Quiebros "Ciudad de Arévalo”
DESCRIPTION:Taquilla Plaza del Arrabal: \nViernes 20 y 27 de junio: De 17:30 a 20:30 – Sábado 21 y 28 de junio: De 11:00 a 14:00 y de 17:30 a 20:30 – Domingo 22 y 29 de junio: De 11:00 a 14:00 \nTaquillas Plaza de Toros: \nJueves 3\, Viernes 4 y Viernes 11 de julio: De 17:30 a 20:30 – Sábado 5\, Domingo 6 y Sábado 12: Desde las 11:00 a 14:30 y de 16:30 a Festejo
URL:https://desarrolloarevalo.pixelinnova.com/evento/xxviii-concurso-de-cortes-y-quiebros-ciudad-de-arevalo-2/
CATEGORIES:Actividades
ATTACH;FMTTYPE=image/jpeg:https://desarrolloarevalo.pixelinnova.com/wp-content/uploads/2026/03/Cortes-2.jpg
END:VEVENT
BEGIN:VEVENT
DTSTART;TZID=Europe/Madrid:20250706T220000
DTEND;TZID=Europe/Madrid:20250706T233000
DTSTAMP:20260420T213549
CREATED:20250624T080045Z
LAST-MODIFIED:20250624T080045Z
UID:27843-1751839200-1751844600@desarrolloarevalo.pixelinnova.com
SUMMARY:Ciclo de Teatro "Dos Paletos en Madrid"
DESCRIPTION:Compañía Teatro Eslava\, obra de Pedro Muñoz-Seca
URL:https://desarrolloarevalo.pixelinnova.com/evento/ciclo-de-teatro-dos-paletos-en-madrid-2/
CATEGORIES:Teatro
ATTACH;FMTTYPE=image/png:https://desarrolloarevalo.pixelinnova.com/wp-content/uploads/2026/03/Escudo.png
END:VEVENT
BEGIN:VEVENT
DTSTART;TZID=Europe/Madrid:20250706T235900
DTEND;TZID=Europe/Madrid:20250707T030000
DTSTAMP:20260420T213549
CREATED:20250624T080044Z
LAST-MODIFIED:20250624T080044Z
UID:27844-1751846340-1751857200@desarrolloarevalo.pixelinnova.com
SUMMARY:Grupo “La Huella”
DESCRIPTION:
URL:https://desarrolloarevalo.pixelinnova.com/evento/grupo-la-huella-2/
CATEGORIES:Conciertos
ATTACH;FMTTYPE=image/png:https://desarrolloarevalo.pixelinnova.com/wp-content/uploads/2026/03/Escudo.png
END:VEVENT
BEGIN:VEVENT
DTSTART;TZID=Europe/Madrid:20250707T120000
DTEND;TZID=Europe/Madrid:20250707T140000
DTSTAMP:20260420T213549
CREATED:20250624T080036Z
LAST-MODIFIED:20250624T080036Z
UID:27845-1751889600-1751896800@desarrolloarevalo.pixelinnova.com
SUMMARY:Misa Solemne en honor de nuestro Patrón San Victorino Mártir
DESCRIPTION:Imposición de medallas a los/as nuevos/as cofrades \nA continuación\, Procesión de la reliquia del Patrón\, amenizada por la Banda Municipal de Música
URL:https://desarrolloarevalo.pixelinnova.com/evento/misa-solemne-en-honor-de-nuestro-patron-san-victorino-martir-2-2/
CATEGORIES:Actividades
ATTACH;FMTTYPE=image/png:https://desarrolloarevalo.pixelinnova.com/wp-content/uploads/2026/03/Escudo.png
END:VEVENT
BEGIN:VEVENT
DTSTART;TZID=Europe/Madrid:20250707T170000
DTEND;TZID=Europe/Madrid:20250707T190000
DTSTAMP:20260420T213549
CREATED:20250624T080058Z
LAST-MODIFIED:20250624T080058Z
UID:27846-1751907600-1751914800@desarrolloarevalo.pixelinnova.com
SUMMARY:Carrera Ciclista\, LXXIII Edición Trofeo “Ferias y Fiestas”
DESCRIPTION:Memorial Enrique Duarte Sarabia \nCategoría: Élite-SUB
URL:https://desarrolloarevalo.pixelinnova.com/evento/carrera-ciclista-lxxiii-edicion-trofeo-ferias-y-fiestas-2/
CATEGORIES:Actividades
ATTACH;FMTTYPE=image/png:https://desarrolloarevalo.pixelinnova.com/wp-content/uploads/2026/03/Escudo.png
END:VEVENT
BEGIN:VEVENT
DTSTART;TZID=Europe/Madrid:20250707T180000
DTEND;TZID=Europe/Madrid:20250707T200000
DTSTAMP:20260420T213549
CREATED:20250624T080043Z
LAST-MODIFIED:20250624T080043Z
UID:27847-1751911200-1751918400@desarrolloarevalo.pixelinnova.com
SUMMARY:Actividades Infantiles
DESCRIPTION:Música\, bailes divertidos\, juegos dinámicos\, globoflexia\, búsqueda del tesoro…
URL:https://desarrolloarevalo.pixelinnova.com/evento/actividades-infantiles-2-2/
CATEGORIES:Actividades
ATTACH;FMTTYPE=image/png:https://desarrolloarevalo.pixelinnova.com/wp-content/uploads/2026/03/Escudo.png
END:VEVENT
BEGIN:VEVENT
DTSTART;TZID=Europe/Madrid:20250707T200000
DTEND;TZID=Europe/Madrid:20250707T220000
DTSTAMP:20260420T213549
CREATED:20250624T080043Z
LAST-MODIFIED:20250624T080043Z
UID:27848-1751918400-1751925600@desarrolloarevalo.pixelinnova.com
SUMMARY:Concierto Ferias 2025 Coral “La Moraña”
DESCRIPTION:
URL:https://desarrolloarevalo.pixelinnova.com/evento/actuacion-de-coral-la-morana-2/
CATEGORIES:Conciertos
ATTACH;FMTTYPE=image/jpeg:https://desarrolloarevalo.pixelinnova.com/wp-content/uploads/2026/03/IMG-20250616-WA0069.jpg
END:VEVENT
BEGIN:VEVENT
DTSTART;TZID=Europe/Madrid:20250707T220000
DTEND;TZID=Europe/Madrid:20250707T230000
DTSTAMP:20260420T213549
CREATED:20250624T080058Z
LAST-MODIFIED:20250624T080058Z
UID:27849-1751925600-1751929200@desarrolloarevalo.pixelinnova.com
SUMMARY:Encierro de reses bravas
DESCRIPTION:Seguidamente en la plaza de toros\, capea popular \nAmenizado por la Charanga “El Boquerón”
URL:https://desarrolloarevalo.pixelinnova.com/evento/encierro-de-reses-bravas-6-2/
CATEGORIES:Actividades
ATTACH;FMTTYPE=image/jpeg:https://desarrolloarevalo.pixelinnova.com/wp-content/uploads/2026/03/Encierros-2025.jpg
END:VEVENT
BEGIN:VEVENT
DTSTART;TZID=Europe/Madrid:20250707T235900
DTEND;TZID=Europe/Madrid:20250708T030000
DTSTAMP:20260420T213549
CREATED:20250624T080035Z
LAST-MODIFIED:20250624T080035Z
UID:27850-1751932740-1751943600@desarrolloarevalo.pixelinnova.com
SUMMARY:Macro Disco “Renovation Experience”
DESCRIPTION:Dj Zamorano Ricky Galende
URL:https://desarrolloarevalo.pixelinnova.com/evento/macro-disco-renovation-experience-2-2/
CATEGORIES:Conciertos
ATTACH;FMTTYPE=image/png:https://desarrolloarevalo.pixelinnova.com/wp-content/uploads/2026/03/Escudo.png
END:VEVENT
BEGIN:VEVENT
DTSTART;TZID=Europe/Madrid:20250708T110000
DTEND;TZID=Europe/Madrid:20250708T130000
DTSTAMP:20260420T213549
CREATED:20250624T080040Z
LAST-MODIFIED:20250624T080040Z
UID:27851-1751972400-1751979600@desarrolloarevalo.pixelinnova.com
SUMMARY:Campeonato de Juegos Autóctonos
DESCRIPTION:
URL:https://desarrolloarevalo.pixelinnova.com/evento/campeonato-de-juegos-autoctonos-2-2/
CATEGORIES:Actividades
ATTACH;FMTTYPE=image/png:https://desarrolloarevalo.pixelinnova.com/wp-content/uploads/2026/03/Escudo.png
END:VEVENT
BEGIN:VEVENT
DTSTART;TZID=Europe/Madrid:20250708T163000
DTEND;TZID=Europe/Madrid:20250708T183000
DTSTAMP:20260420T213549
CREATED:20250624T080052Z
LAST-MODIFIED:20250624T080052Z
UID:27852-1751992200-1751999400@desarrolloarevalo.pixelinnova.com
SUMMARY:V Campeonato de Petanca
DESCRIPTION:
URL:https://desarrolloarevalo.pixelinnova.com/evento/v-campeonato-de-petanca-2/
CATEGORIES:Actividades
ATTACH;FMTTYPE=image/png:https://desarrolloarevalo.pixelinnova.com/wp-content/uploads/2026/03/Escudo.png
END:VEVENT
BEGIN:VEVENT
DTSTART;TZID=Europe/Madrid:20250708T170000
DTEND;TZID=Europe/Madrid:20250708T190000
DTSTAMP:20260420T213549
CREATED:20250624T080032Z
LAST-MODIFIED:20250624T080032Z
UID:27853-1751994000-1752001200@desarrolloarevalo.pixelinnova.com
SUMMARY:Parque Infantil Acuático Extreme con Hinchables y Fiesta de la Espuma
DESCRIPTION:
URL:https://desarrolloarevalo.pixelinnova.com/evento/parque-infantil-acuatico-extreme-con-hinchables-y-fiesta-de-la-espuma-2/
CATEGORIES:Actividades
ATTACH;FMTTYPE=image/png:https://desarrolloarevalo.pixelinnova.com/wp-content/uploads/2026/03/Escudo.png
END:VEVENT
BEGIN:VEVENT
DTSTART;TZID=Europe/Madrid:20250708T180000
DTEND;TZID=Europe/Madrid:20250708T200000
DTSTAMP:20260420T213549
CREATED:20250624T080018Z
LAST-MODIFIED:20250624T080018Z
UID:27854-1751997600-1752004800@desarrolloarevalo.pixelinnova.com
SUMMARY:Festival de Pelota a Mano
DESCRIPTION:1er Partido: Iribarren – Azpiroz vs. Uribe – Iturriaga \n2º Partido: Etxebarría II – Garmendia. vs. Labaka – Cuarian
URL:https://desarrolloarevalo.pixelinnova.com/evento/festival-de-pelota-a-mano-2-2/
CATEGORIES:Actividades
ATTACH;FMTTYPE=image/png:https://desarrolloarevalo.pixelinnova.com/wp-content/uploads/2026/03/Escudo.png
END:VEVENT
BEGIN:VEVENT
DTSTART;TZID=Europe/Madrid:20250708T190000
DTEND;TZID=Europe/Madrid:20250708T210000
DTSTAMP:20260420T213549
CREATED:20250624T080024Z
LAST-MODIFIED:20250624T080024Z
UID:27855-1752001200-1752008400@desarrolloarevalo.pixelinnova.com
SUMMARY:Actuación del Grupo Flamenco “Sabor a Miel” y “Abandolaos”
DESCRIPTION:A continuación\, Discomóvil con los Dj´s Duck y Dany Arv \nMás información en programación aparte
URL:https://desarrolloarevalo.pixelinnova.com/evento/actuacion-del-grupo-flamenco-sabor-a-miel-y-abandolaos-2/
CATEGORIES:Conciertos
ATTACH;FMTTYPE=image/png:https://desarrolloarevalo.pixelinnova.com/wp-content/uploads/2026/03/Escudo.png
END:VEVENT
BEGIN:VEVENT
DTSTART;TZID=Europe/Madrid:20250708T200000
DTEND;TZID=Europe/Madrid:20250708T220000
DTSTAMP:20260420T213549
CREATED:20250624T080020Z
LAST-MODIFIED:20250624T080020Z
UID:27856-1752004800-1752012000@desarrolloarevalo.pixelinnova.com
SUMMARY:Salida de los tradicionales Gigantes y Cabezudos de Arévalo
DESCRIPTION:Acompañados por las dulzainas y tamboriles de “Armusinme”
URL:https://desarrolloarevalo.pixelinnova.com/evento/salida-de-los-tradicionales-gigantes-y-cabezudos-de-arevalo-2/
CATEGORIES:Actividades
ATTACH;FMTTYPE=image/png:https://desarrolloarevalo.pixelinnova.com/wp-content/uploads/2026/03/Escudo.png
END:VEVENT
BEGIN:VEVENT
DTSTART;TZID=Europe/Madrid:20250708T220000
DTEND;TZID=Europe/Madrid:20250708T233000
DTSTAMP:20260420T213549
CREATED:20250624T080055Z
LAST-MODIFIED:20250624T080055Z
UID:27857-1752012000-1752017400@desarrolloarevalo.pixelinnova.com
SUMMARY:Ciclo de Teatro “La Ratonera”
DESCRIPTION:La Compañía Teatro Eslava\, interpretará la obra de Agatha Christie
URL:https://desarrolloarevalo.pixelinnova.com/evento/ciclo-de-teatro-la-ratonera-2/
CATEGORIES:Teatro
ATTACH;FMTTYPE=image/png:https://desarrolloarevalo.pixelinnova.com/wp-content/uploads/2026/03/Escudo.png
END:VEVENT
BEGIN:VEVENT
DTSTART;TZID=Europe/Madrid:20250708T235900
DTEND;TZID=Europe/Madrid:20250709T030000
DTSTAMP:20260420T213549
CREATED:20250624T080041Z
LAST-MODIFIED:20250624T080041Z
UID:27858-1752019140-1752030000@desarrolloarevalo.pixelinnova.com
SUMMARY:Orquesta “Génesis”
DESCRIPTION:
URL:https://desarrolloarevalo.pixelinnova.com/evento/orquesta-genesis-2/
CATEGORIES:Conciertos
ATTACH;FMTTYPE=image/png:https://desarrolloarevalo.pixelinnova.com/wp-content/uploads/2026/03/Escudo.png
END:VEVENT
BEGIN:VEVENT
DTSTART;TZID=Europe/Madrid:20250709T120000
DTEND;TZID=Europe/Madrid:20250709T140000
DTSTAMP:20260420T213549
CREATED:20250624T080047Z
LAST-MODIFIED:20250624T080047Z
UID:27859-1752062400-1752069600@desarrolloarevalo.pixelinnova.com
SUMMARY:Concurso de Dibujo Infantil
DESCRIPTION:Edades de 0 a 14 años
URL:https://desarrolloarevalo.pixelinnova.com/evento/concurso-de-dibujo-infantil-2-2/
CATEGORIES:Actividades
ATTACH;FMTTYPE=image/png:https://desarrolloarevalo.pixelinnova.com/wp-content/uploads/2026/03/Escudo.png
END:VEVENT
BEGIN:VEVENT
DTSTART;TZID=Europe/Madrid:20250709T180000
DTEND;TZID=Europe/Madrid:20250709T200000
DTSTAMP:20260420T213549
CREATED:20250624T080022Z
LAST-MODIFIED:20250624T080022Z
UID:27860-1752084000-1752091200@desarrolloarevalo.pixelinnova.com
SUMMARY:Fiesta para Nuestros/as Mayores
DESCRIPTION:Amenizada por las dulzainas y tamboriles de “Al Pan Pan»
URL:https://desarrolloarevalo.pixelinnova.com/evento/fiesta-para-nuestros-as-mayores-2-2/
CATEGORIES:Actividades
ATTACH;FMTTYPE=image/png:https://desarrolloarevalo.pixelinnova.com/wp-content/uploads/2026/03/Escudo.png
END:VEVENT
END:VCALENDAR